BEGIN:VCALENDAR
VERSION:2.0
PRODID:-//ChamberMaster//Event Calendar 2.0//EN
METHOD:PUBLISH
X-PUBLISHED-TTL:P3D
REFRESH-INTERVAL:P3D
CALSCALE:GREGORIAN
BEGIN:VEVENT
DTSTART:20171008T010000Z
DTEND:20171008T050000Z
X-MICROSOFT-CDO-ALLDAYEVENT:FALSE
SUMMARY:K104 - Diva's Birthday Bash 2017!
DESCRIPTION:It's time to PRANCE\, DANCE\, VOGUE\, WALK THE RUNWAY\, STROLL AND STEP!!!!\n\n\n\nStop by for K104 personality Diva's Birthday Bash!\n\n\n\nWear pink in support of Breast Cancer Research!\n\n\n\nCheck out the event details on our Facebook page:\n\nDiva's Birthday Bash 2017!
X-ALT-DESC;FMTTYPE=text/html:<span style="color:rgb(75\, 79\, 86)\; font-family:sf optimized\,system-ui\,-apple-system\,blinkmacsystemfont\,.sfnstext-regular\,sans-serif\; font-size:14px">It&#39\;s time to PRANCE\, DANCE\, VOGUE\, WALK THE RUNWAY\, STROLL AND STEP!!!!<br />\n<br />\nStop by for K104 personality Diva&#39\;s Birthday Bash!</span><br />\n<br />\n<span style="color:rgb(75\, 79\, 86)\; font-family:sf optimized\,system-ui\,-apple-system\,blinkmacsystemfont\,.sfnstext-regular\,sans-serif\; font-size:14px">Wear pink in support of Breast Cancer Research!</span><br />\n<br />\nCheck out the event details on our Facebook page:<br />\n<a href="https://www.facebook.com/events/135366703766956/?acontext=%7B%22ref%22%3A%223%22%2C%22ref_newsfeed_story_type%22%3A%22regular%22%2C%22feed_story_type%22%3A%22117%22%2C%22action_history%22%3A%22null%22%7D">Diva&#39\;s Birthday Bash 2017!</a><br />\n&nbsp\;\n<h1>&nbsp\;</h1>\n
LOCATION:The Alley Kat 1677 US 9 Wappingers Falls\, New York\, NY 12590
UID:e.2770.10476346
SEQUENCE:3
DTSTAMP:20260426T033147Z
URL:https://business.dcrcoc.org/events/details/k104-diva-s-birthday-bash-2017-10476346
END:VEVENT

END:VCALENDAR
