BEGIN:VCALENDAR
VERSION:2.0
PRODID:-//ChamberMaster//Event Calendar 2.0//EN
METHOD:PUBLISH
X-PUBLISHED-TTL:P3D
REFRESH-INTERVAL:P3D
CALSCALE:GREGORIAN
BEGIN:VEVENT
DTSTART:20180428T180000Z
DTEND:20180428T200000Z
X-MICROSOFT-CDO-ALLDAYEVENT:FALSE
SUMMARY:Kambo Cleanse Informational Gathering
DESCRIPTION:Looking for a highly effective\, high vibration healing tool? Join us for our first informational Kambo Cleanse Gathering hosted by Rusty Johnson! Rusty Johnson\, Kambo Practitioner\, Wildlife Expert\, and Amazon Guide is bringing this ancient medicine direct from the Amazon to our hidden gem in the heart of Rhinebeck! Known as the 'vaccine of the forest'\, Amazonian Kambo is a powerful treatment for achieving emotional balance\, clearing negative energies\, eradicating pain\, negating addictions\, healing fertility problems\, asthma\, migraines and viruses\, treating Depression and easing the symptoms of Lyme's Disease\, cancer\, Alzheimer's\, Parkinson's and more.\n\n\n\n*Attendees who book their cleanse at this event will receive a 10% discount*\n\n\n\nIncluded in this event will be a lesson and short film on Kambo\, time for questions\, and nurtitious refreshments. Reserve your spot TODAY at this life changing event\, or contact us to book your private or group Kambo ceremony.
X-ALT-DESC;FMTTYPE=text/html:Looking for a highly effective\, high vibration healing tool? Join us for our first informational Kambo Cleanse Gathering hosted by Rusty Johnson!&nbsp\;Rusty Johnson\,<span style="font-size:16px\; text-align:center">&nbsp\;</span><span style="font-family:arial\; text-align:center">Kambo Practitioner\, Wildlife Expert\, and Amazon Guide is bringing this ancient medicine direct from the Amazon to our hidden gem in the heart of Rhinebeck! </span><span style="text-align:center">Known as the &lsquo\;vaccine of the forest&rsquo\;\, Amazonian Kambo is a powerful treatment for achieving emotional balance\, clearing negative energies\, eradicating pain\, negating addictions\, healing fertility problems\, asthma\, migraines and viruses\, treating Depression and easing the symptoms of Lyme&rsquo\;s Disease\, cancer\, Alzheimer&rsquo\;s\, Parkinson&rsquo\;s and more.<br />\n<br />\n*Attendees who book their cleanse at this event will receive a 10% discount*<br />\n<br />\nIncluded in this event will be a lesson and short film on Kambo\, time for questions\, and nurtitious refreshments. Reserve your spot TODAY at this life changing event\, or contact us to book your private or group Kambo ceremony.</span><br />\n&nbsp\;\n<div>&nbsp\;</div>\n
LOCATION:Rubystar Healing Arts 47 E. Market St\, 2nd Floor Rhinebeck\, NY 12572
UID:e.2770.10476932
SEQUENCE:3
DTSTAMP:20260425T210346Z
URL:https://business.dcrcoc.org/events/details/kambo-cleanse-informational-gathering-10476932
END:VEVENT

END:VCALENDAR
