BEGIN:VCALENDAR
VERSION:2.0
PRODID:-//ChamberMaster//Event Calendar 2.0//EN
METHOD:PUBLISH
X-PUBLISHED-TTL:P3D
REFRESH-INTERVAL:P3D
CALSCALE:GREGORIAN
BEGIN:VEVENT
DTSTART:20210520T160000Z
DTEND:20210520T173000Z
X-MICROSOFT-CDO-ALLDAYEVENT:FALSE
SUMMARY:Keane & Beane Spring Webinar Series: Part III - “New York Adult Use Marijuana: What You Need to Know”
DESCRIPTION:On Thursday\, May 20\, 2021\, Keane & Beane\, P.C. will present its 2021 Spring Webinar Series\, Part III: "New York Adult Use Marijuana: What You Need to Know". Attorneys Eric L. Gordon and Drew Victoria Gamils will provide an overview of the New York State Marijuana Regulation and Taxation Act ("MRTA")\, which legalizes adult-use cannabis in New York State. The legalization of adult-use cannabis will have a direct impact upon municipalities and residents and requires municipalities to determine whether to allow the retail sale of cannabis in their community. This presentation will highlight key questions and concerns pertaining to the MRTA and what rights local municipalities have with respect to the control and regulation of adult-use cannabis.  \n\nTopics will include:\n\n\n	An Overview of the MRTA\n	The Licensing System for Recreational Marijuana Sales\n	Municipal Opt-Out Authorization\n	Should A Municipality Decide To Opt-Out\n	Reasonable Local Restrictions on Retail Dispensaries and On-Site Consumption Sites\n	Local Regulations Permitted on Personal Cultivation\n	Non-smoking areas\n	The Taxation System\n\n\nThe Zoom webinar on May 20th will begin at 12:00 p.m. and end at 1:30 p.m. and will include a question and answer segment. Registration is required by emailing edevito@kblaw.com. An access code will be sent to registrants the morning of the program.
X-ALT-DESC;FMTTYPE=text/html:<p>On Thursday\, May 20\, 2021\, Keane &amp\; Beane\, P.C. will present its 2021&nbsp\;<strong>Spring Webinar Series\, Part III: &ldquo\;New York Adult Use Marijuana: What You Need to Know&rdquo\;</strong>. Attorneys&nbsp\;<a href="https://www.kblaw.com/member/eric-l-gordon/" style="box-sizing: border-box\; -webkit-tap-highlight-color: transparent\; outline: 0px\; text-decoration-line: none\; transition-property: color\; transition-duration: 0.25s\; color: rgb(127\, 6\, 67)\;">Eric L. Gordon</a>&nbsp\;and&nbsp\;<a href="https://www.kblaw.com/member/drew-victoria-gamils/" style="box-sizing: border-box\; -webkit-tap-highlight-color: transparent\; outline: 0px\; text-decoration-line: none\; transition-property: color\; transition-duration: 0.25s\; color: rgb(127\, 6\, 67)\;">Drew Victoria Gamils</a>&nbsp\;will provide an overview of the New York State Marijuana Regulation and Taxation Act (&ldquo\;MRTA&rdquo\;)\, which legalizes adult-use cannabis in New York State. The legalization of adult-use cannabis will have a direct impact upon municipalities and residents and requires municipalities to determine whether to allow the retail sale of cannabis in their community. This presentation will highlight key questions and concerns pertaining to the MRTA and what rights local municipalities have with respect to the control and regulation of adult-use cannabis.&nbsp\;&nbsp\;</p>\n\n<p>Topics will include:</p>\n\n<ul>\n	<li>An Overview of the MRTA</li>\n	<li>The Licensing System for Recreational Marijuana Sales</li>\n	<li>Municipal Opt-Out Authorization</li>\n	<li>Should A Municipality Decide To Opt-Out</li>\n	<li>Reasonable Local Restrictions on Retail Dispensaries and On-Site Consumption Sites</li>\n	<li>Local Regulations Permitted on Personal Cultivation</li>\n	<li>Non-smoking areas</li>\n	<li>The Taxation System</li>\n</ul>\n\n<p>The Zoom webinar on May 20th will begin at 12:00 p.m. and end at 1:30 p.m. and will include a question and answer segment. Registration is required by emailing&nbsp\;<a href="mailto:edevito@kblaw.com" style="box-sizing: border-box\; -webkit-tap-highlight-color: transparent\; outline: 0px\; text-decoration-line: none\; transition-property: color\; transition-duration: 0.25s\; color: rgb(127\, 6\, 67)\;">edevito@kblaw.com</a>. An access code will be sent to registrants the morning of the program.&nbsp\;&nbsp\;</p>\n
LOCATION:Zoom webinar on May 20th will begin at 12:00 p.m. and end at 1:30 p.m. Registration is required by emailing edevito@kblaw.com. An access code will be sent to registrants the morning of the program.
UID:e.2770.10485121
SEQUENCE:3
DTSTAMP:20260421T112441Z
URL:https://business.dcrcoc.org/events/details/keane-beane-spring-webinar-series-part-iii-new-york-adult-use-marijuana-what-you-need-to-know-10485121
END:VEVENT

END:VCALENDAR
