BEGIN:VCALENDAR
VERSION:2.0
PRODID:-//ChamberMaster//Event Calendar 2.0//EN
METHOD:PUBLISH
X-PUBLISHED-TTL:P3D
REFRESH-INTERVAL:P3D
CALSCALE:GREGORIAN
BEGIN:VEVENT
DTSTART:20190413T140000Z
DTEND:20190413T200000Z
X-MICROSOFT-CDO-ALLDAYEVENT:FALSE
SUMMARY:Kids Read: A Book Festival
DESCRIPTION:A book festival featuring 35 authors and illustrators\, story characters\, book selling and signing\, presentations by authors\, crafts\, vendors\,and food trucks. Sponsored by the Poughkeepsie Public Library District.
X-ALT-DESC;FMTTYPE=text/html:A book festival featuring 35 authors and illustrators\, story characters\, book selling and signing\, presentations by authors\, crafts\, vendors\,and food trucks. Sponsored by the Poughkeepsie Public Library District.
LOCATION:Our Lady of Lourdes High School 131 Boardman Road Poughkeepsie\, NY 12603
UID:e.2770.10480552
SEQUENCE:3
DTSTAMP:20260423T065020Z
URL:https://business.dcrcoc.org/events/details/kids-read-a-book-festival-04-13-2019-10480552
END:VEVENT

END:VCALENDAR
