BEGIN:VCALENDAR
VERSION:2.0
PRODID:-//ChamberMaster//Event Calendar 2.0//EN
METHOD:PUBLISH
X-PUBLISHED-TTL:P3D
REFRESH-INTERVAL:P3D
CALSCALE:GREGORIAN
BEGIN:VEVENT
DTSTART:20180310T150000Z
DTEND:20180324T160000Z
X-MICROSOFT-CDO-ALLDAYEVENT:FALSE
SUMMARY:Kids Yoga
DESCRIPTION:Join us as we stretch and strengthen through a series of yoga poses\, flow from traditional sequences to fun partner poses\, then finish with relaxation and a creative\, guided imagery. Kids Yoga helps kids refine balance and coordination\, enhance body awareness\, build self esteem and create healthy peer interaction. Classes taking place as a series allows for structure\, room to learn and grow as well as themes to build upon for each week. Sibling discounts apply. Liz Torres is a Certified Kids\, Teen and Adult Yoga Teacher and is the Founder of Mindful Yoga With Liz. Liz inspires students to move\, think\, balance and have fun both on and off of the Yoga Mat. Learn more about Liz by visiting her on Facebook at Mindful Yoga With Liz.
X-ALT-DESC;FMTTYPE=text/html:Join us as we stretch and strengthen through a series of yoga poses\, flow from traditional sequences to fun partner poses\, then finish with relaxation and a creative\, guided imagery. Kids Yoga helps kids refine balance and coordination\, enhance body awareness\, build self esteem and create healthy peer interaction. Classes taking place as a series allows for structure\, room to learn and grow as well as themes to build upon for each week. Sibling discounts apply. Liz Torres is a Certified Kids\, Teen and Adult Yoga Teacher and is the Founder of Mindful Yoga With Liz. Liz inspires students to move\, think\, balance and have fun both on and off of the Yoga Mat. Learn more about Liz by visiting her on Facebook at Mindful Yoga With Liz.
LOCATION:Inside The Yoga Center @ The Residence Inn
UID:e.2770.10476877
SEQUENCE:3
DTSTAMP:20260425T210351Z
URL:https://business.dcrcoc.org/events/details/kids-yoga-10476877
END:VEVENT

END:VCALENDAR
