BEGIN:VCALENDAR
VERSION:2.0
PRODID:-//ChamberMaster//Event Calendar 2.0//EN
METHOD:PUBLISH
X-PUBLISHED-TTL:P3D
REFRESH-INTERVAL:P3D
CALSCALE:GREGORIAN
BEGIN:VEVENT
DTSTART:20200930T210000Z
DTEND:20200930T220000Z
X-MICROSOFT-CDO-ALLDAYEVENT:FALSE
SUMMARY:Leadership Dutchess and Executive Leadership Virtual Information Session
DESCRIPTION:Are you interested in learning more about these programs for yourself?  For an employee? Sign up today for this complimentary\, virtual session. \n\n\n\nSession will include a special keynote guest.
X-ALT-DESC;FMTTYPE=text/html:<br />\n<span style="font-size:18px\;"><span style="font-family:times new roman\;">Are you interested in learning more about these programs for yourself?&nbsp\; For an employee? Sign up today for this complimentary\, virtual session.&nbsp\;<br />\n<br />\nSession will include a special keynote guest.</span></span>
LOCATION:
UID:e.2770.10484449
SEQUENCE:3
DTSTAMP:20260422T001841Z
URL:https://business.dcrcoc.org/events/details/leadership-dutchess-and-executive-leadership-virtual-information-session-10484449
END:VEVENT

END:VCALENDAR
