BEGIN:VCALENDAR
VERSION:2.0
PRODID:-//ChamberMaster//Event Calendar 2.0//EN
METHOD:PUBLISH
X-PUBLISHED-TTL:P3D
REFRESH-INTERVAL:P3D
CALSCALE:GREGORIAN
BEGIN:VEVENT
DTSTART:20180913T210000Z
DTEND:20180913T223000Z
X-MICROSOFT-CDO-ALLDAYEVENT:FALSE
SUMMARY:Leadership Dutchess Class of 2019 Welcome Reception
DESCRIPTION:Join us as we welcome the Leadership Dutchess Class of 2019 with a cocktail reception featuring local selections\, passed hors d'oeuvres\, wine & beer.\n\n\n\nPlatinum Sponsor:\n\nCentral Hudson Gas & Electric Corporation\n\n\n\nProgram Sponsors:\n\nChildren's Home of Poughkeepsie\n\nIBM Corporation\n\nKeyBank\n\nRBT\, CPAs
X-ALT-DESC;FMTTYPE=text/html:<br />\n<span style="font-family: times new roman\;"><span style="font-size: 20px\;">Join us as we welcome the&nbsp\;Leadership Dutchess Class of 2019 with a cocktail reception featuring local selections\,&nbsp\;passed hors d&#39\;oeuvres\, wine &amp\; beer.<br />\n<br />\n<strong>Platinum Sponsor:<br />\n<a href="https://www.cenhud.com/" target="_blank"><span style="color: rgb(0\, 0\, 255)\;">Central Hudson Gas &amp\; Electric Corporation</span></a><br />\n<br />\n<span style="color: rgb(0\, 0\, 0)\;">Program Sponsors</span>:<br />\n<a href="https://www.childrenshome.us/" target="_blank"><span style="color: rgb(0\, 0\, 255)\;">Children&#39\;s Home of Poughkeepsie</span></a><br />\n<a href="https://www.ibm.com/us-en/" target="_blank"><font color="#0000ff">IBM Corporation</font></a><br />\n<a href="https://www.key.com/personal/index.jsp" target="_blank"><span style="color: rgb(0\, 0\, 255)\;">KeyBank</span></a><br />\n<a href="http://www.rbtcpas.com/" target="_blank"><span style="color: rgb(0\, 0\, 255)\;">RBT\, CPAs</span></a></strong></span></span>
LOCATION:Henry Wallace Center 4079 Albany Post Road Hyde Park\, NY 12538
UID:e.2770.10476496
SEQUENCE:3
DTSTAMP:20260425T131347Z
URL:https://business.dcrcoc.org/events/details/leadership-dutchess-class-of-2019-welcome-reception-10476496
END:VEVENT

END:VCALENDAR
