BEGIN:VCALENDAR
VERSION:2.0
PRODID:-//ChamberMaster//Event Calendar 2.0//EN
METHOD:PUBLISH
X-PUBLISHED-TTL:P3D
REFRESH-INTERVAL:P3D
CALSCALE:GREGORIAN
BEGIN:VEVENT
DTSTART:20190606T213000Z
DTEND:20190607T003000Z
X-MICROSOFT-CDO-ALLDAYEVENT:FALSE
SUMMARY:Leadership Dutchess Graduation
DESCRIPTION:For Reservations\, Please Call (845) 454-1700 Ext. 1000.\n\n\n\nJoin us to celebrate the Leadership Dutchess Class of 2019! \n\nA cocktail reception featuring gourmet stations and passed hors d'oeuvres\, 5:30 PM. Followed by presentations and awards at 6:45 PM. \n\n\n\nPlease RSVP by May 31st.
X-ALT-DESC;FMTTYPE=text/html:<p><span style="font-size: 16px\;"><span style="font-family: times new roman\;"><strong><span style="color: rgb(0\, 0\, 205)\;">For Reservations\, Please Call (845) 454-1700 Ext. 1000.</span></strong><br />\n<br />\nJoin us to celebrate the Leadership Dutchess Class of 2019!&nbsp\;<br />\nA cocktail reception featuring gourmet stations and passed hors d&#39\;oeuvres\, 5:30 PM. Followed by presentations and awards at 6:45 PM.&nbsp\;</span></span><br />\n<br />\n<span style="font-size: 16px\;"><span style="font-family: times new roman\;"><strong>Please RSVP by May 31st.</strong></span></span></p>\n
LOCATION:Christos Catering 155 Wilbur Boulevard Poughkeepsie
UID:e.2770.10479877
SEQUENCE:3
DTSTAMP:20260423T024956Z
URL:https://business.dcrcoc.org/events/details/leadership-dutchess-graduation-10479877
END:VEVENT

END:VCALENDAR
