BEGIN:VCALENDAR
VERSION:2.0
PRODID:-//ChamberMaster//Event Calendar 2.0//EN
METHOD:PUBLISH
X-PUBLISHED-TTL:P3D
REFRESH-INTERVAL:P3D
CALSCALE:GREGORIAN
BEGIN:VEVENT
DTSTART:20180614T123000Z
DTEND:20180614T183000Z
X-MICROSOFT-CDO-ALLDAYEVENT:FALSE
SUMMARY:Learn how to maximize your organization's capability by finding and inspiring your volunteer team!
DESCRIPTION:On Thursday\, June 14th\, United Way of the Dutchess-Orange Region is offering nonprofit professional training to find\, inspire and retain volunteers\, interns and staff. Strategies to Inspire Volunteers\, Interns & Staff for Maximum Success\, featuring two panel discussions as well as three workshop presentations\, will provide key tools not only to find the right people to support your organization's work\, but also how to inspire and retain them. This program\, presented thanks to the support of the New York State Volunteer Generation Fund\, is FREE for nonprofit professionals in Dutchess and Orange Counties. Register now as seating is limited. Participants include: Sara Alpert (Dutchess Community College)\, Melissa Clark (United Way of the Dutchess-Orange Region)\, Melissa Gaeke\, Ph.D (Marist College)\, Cammie Jones (Bard College)\, Lisa R. Kaul (Vassar College)\, Danny Malav  (The Culinary Institute of America)\, Kathleen O'Keefe (Mount Saint Mary College)\, and Erica Wagner (SUNY New Paltz)
X-ALT-DESC;FMTTYPE=text/html:On Thursday\, June 14th\, United Way of the Dutchess-Orange Region is offering nonprofit professional training to find\, inspire and retain volunteers\, interns and staff. Strategies to Inspire Volunteers\, Interns &amp\; Staff for Maximum Success\, featuring two panel discussions as well as three workshop presentations\, will provide key tools not only to find the right people to support your organization&#39\;s work\, but also how to inspire and retain them. This program\, presented thanks to the support of the New York State Volunteer Generation Fund\, is FREE for nonprofit professionals in Dutchess and Orange Counties. Register now as seating is limited. Participants include: Sara Alpert (Dutchess Community College)\, Melissa Clark (United Way of the Dutchess-Orange Region)\, Melissa Gaeke\, Ph.D (Marist College)\, Cammie Jones (Bard College)\, Lisa R. Kaul (Vassar College)\, Danny Malav&eacute\; (The Culinary Institute of America)\, Kathleen O&rsquo\;Keefe (Mount Saint Mary College)\, and Erica Wagner (SUNY New Paltz)
LOCATION:DCC
UID:e.2770.10477822
SEQUENCE:3
DTSTAMP:20260425T171055Z
URL:https://business.dcrcoc.org/events/details/learn-how-to-maximize-your-organization-s-capability-by-finding-and-inspiring-your-volunteer-team-10477822
END:VEVENT

END:VCALENDAR
