BEGIN:VCALENDAR
VERSION:2.0
PRODID:-//ChamberMaster//Event Calendar 2.0//EN
METHOD:PUBLISH
X-PUBLISHED-TTL:P3D
REFRESH-INTERVAL:P3D
CALSCALE:GREGORIAN
BEGIN:VEVENT
DTSTART:20180718T220000Z
DTEND:20180719T000000Z
X-MICROSOFT-CDO-ALLDAYEVENT:FALSE
SUMMARY:Learn More About Your Credit Score
DESCRIPTION:What You Will Learn!\n\nOne of the most important numbers that consumers have is their credit score: it affects the ability to purchase a home\, buy a car\, get a credit card\, and other financial decisions.\n\nWhether you have excellent credit or more colorful credit\, we will help you understand your credit report and explain how to improve your score.\n\nIn this informative session\, you will learn:\n\n\n	The difference between a credit report and credit score\n	What makes up your credit score\n	Why your credit score matters\n\n\nOur guest speaker is Amanda Friedemann\, Business Development Officer at TEG Federal Credit Union.
X-ALT-DESC;FMTTYPE=text/html:<p><strong>What You Will Learn!</strong></p>\n\n<p>One of the most important numbers that consumers have is their credit score: it affects the ability to purchase a home\, buy a car\, get a credit card\, and other financial decisions.</p>\n\n<p>Whether you have excellent credit or more colorful credit\, we will help you understand your credit report and explain how to improve your score.</p>\n\n<p>In this informative session\, you will learn:</p>\n\n<ul>\n	<li>The difference between a credit report and credit score</li>\n	<li>What makes up your credit score</li>\n	<li>Why your credit score matters</li>\n</ul>\n\n<p>Our guest speaker is Amanda Friedemann\, Business Development Officer at TEG Federal Credit Union.</p>\n
LOCATION:WEDC MHV @ Think Dutchess Alliance For Business 3 Neptune Rd\, Suite A21 Poughkeepsie\, NY 12601
UID:e.2770.10477762
SEQUENCE:3
DTSTAMP:20260425T154914Z
URL:https://business.dcrcoc.org/events/details/learn-more-about-your-credit-score-10477762
END:VEVENT

END:VCALENDAR
