BEGIN:VCALENDAR
VERSION:2.0
PRODID:-//ChamberMaster//Event Calendar 2.0//EN
METHOD:PUBLISH
X-PUBLISHED-TTL:P3D
REFRESH-INTERVAL:P3D
CALSCALE:GREGORIAN
BEGIN:VEVENT
DTSTART:20190416T220000Z
DTEND:20190416T230000Z
X-MICROSOFT-CDO-ALLDAYEVENT:FALSE
SUMMARY:Learn To Run Program
DESCRIPTION:This is a beginner's running program. The program starts on April 16th and takes place weekly\, every Tuesday\, through June 4th. \n\nLearn To Run is limited to 60 Participants. Gather your co-workers\, friends and family and register as a group for extra motivation! \n\n\n\nJohn Nunez\, PT\, DPT of Feldman Physical Therapy will be our technical coach for the program.  Dr. Nunez and his team members will provide expert advice at each program session\, to help each runner successfully and safely learn and practice a safe running routine\, including how to warm up\, cool down\, stretch and understand how to stay injury free.  \n\nRegistration Required. \n\nLEARN TO RUN\n\nOver the course of 8 weeks\, participants in the Learn to Run group will progress from non-runners to being able to run for 15 minutes without stopping. This program is designed to assist and to encourage individuals interested in the sport of running to learn safe and effective running habits with the goal of gradually improving distance and pace. \n\nPLEASE NOTE: The program is limited to 60 participants\; only those who have registered can take part   no exceptions! The program welcomes persons of all ages. Parent or Guardian must sign waiver on behalf of minor child. \n\nQuestions? Call 845-454-1700 ext.1007. All participants must sign a waiver of liability form.\n\nLearn To Run is sponsored by: Fleet Feet of Poughkeepsie\, Fortress Financial Advisory\, LLC\, Health Quest and Mid-Hudson Valley Federal Credit Union
X-ALT-DESC;FMTTYPE=text/html:<p><br />\n<span style="font-family: &quot\;Verdana&quot\;\,&quot\;sans-serif&quot\;\;">This is a beginner&#39\;s running program. <span style="color: rgb(255\, 0\, 0)\;">The program starts on April 16th and takes place weekly\, every Tuesday\, through June 4th. </span></span></p>\n\n<p><span style="font-family: &quot\;Verdana&quot\;\,&quot\;sans-serif&quot\;\;">Learn To Run is limited to 60 Participants. Gather your co-workers\, friends and family and register as a group for extra motivation!&nbsp\;<br />\n<br />\nJohn Nunez\, PT\, DPT of Feldman Physical Therapy will be our technical coach for the program.&nbsp\; Dr. Nunez and his team members will provide expert advice at each program session\, to help each runner successfully and safely learn and practice a safe running routine\, including how to warm up\, cool down\, stretch and understand how to stay injury free. &nbsp\;</span></p>\n\n<p><em><strong><span style="font-family: &quot\;Verdana&quot\;\,&quot\;sans-serif&quot\;\;">Registration Required. </span></strong></em></p>\n\n<p><strong><span style="font-family: &quot\;Verdana&quot\;\,&quot\;sans-serif&quot\;\;">LEARN TO RUN</span></strong></p>\n\n<p><span style="font-family: &quot\;Verdana&quot\;\,&quot\;sans-serif&quot\;\;">Over the course of 8 weeks\, participants in the Learn to Run group will progress from non-runners to being able to run for 15 minutes without stopping. This program is designed to assist and to encourage individuals interested in the sport of running to learn safe and effective running habits with the goal of gradually improving distance and pace.&nbsp\;</span></p>\n\n<p><strong><span style="font-family: &quot\;Verdana&quot\;\,&quot\;sans-serif&quot\;\;">PLEASE NOTE:</span></strong><span style="font-family: &quot\;Verdana&quot\;\,&quot\;sans-serif&quot\;\;"> The program is limited to 60 participants\; only those who have registered can take part &ndash\; no exceptions! The program welcomes persons of all ages.&nbsp\;Parent or Guardian must sign waiver on behalf of minor child.&nbsp\;</span></p>\n\n<p><span style="font-family: &quot\;Verdana&quot\;\,&quot\;sans-serif&quot\;\;">Questions? Call 845-454-1700 ext.1007. All participants must sign a waiver of liability form.</span></p>\n\n<p><span style="font-size: 14px\;"><span style="font-family: verdana\;">Learn To Run is sponsored by: <strong><span style="background: white\;"><span style="color: blue\;"><a href="http://www.fleetfeetpoughkeepsie.com/" target="_blank"><span style="color: blue\;">Fleet Feet of Poughkeepsie</span></a></span></span></strong><span style="background: white\;"><span style="color: rgb(51\, 51\, 51)\;">\, </span></span><span style="background: white\;"><a href="http://concierge.lifemark.com/WilliamFrancis" style="color: blue\; font-weight: bold\;" target="_blank">Fortress Financial Advisory\, LLC</a>\,&nbsp\;</span><strong><span style="background: white\;"><a href="http://www.healthquest.org/" target="_blank"><span style="color: rgb(0\, 0\, 255)\;">Health Quest</span></a><span style="color: blue\;"><span style="color: blue\;">&nbsp\;</span></span></span></strong><span style="background: white\;">and </span><strong><a href="https://www.mhvfcu.com/" target="_blank"><span style="color: rgb(0\, 0\, 255)\;">Mid-Hudson Valley Federal Credit Union</span></a></strong></span></span></p>\n
LOCATION:Bowdoin Park 85 Sheafe Road Wappingers Falls
UID:e.2770.10480466
SEQUENCE:3
DTSTAMP:20260423T062123Z
URL:https://business.dcrcoc.org/events/details/learn-to-run-program-10480466
END:VEVENT

END:VCALENDAR
