BEGIN:VCALENDAR
VERSION:2.0
PRODID:-//ChamberMaster//Event Calendar 2.0//EN
METHOD:PUBLISH
X-PUBLISHED-TTL:P3D
REFRESH-INTERVAL:P3D
CALSCALE:GREGORIAN
BEGIN:VEVENT
DTSTART;VALUE=DATE:20180907
DTEND;VALUE=DATE:20180908
TRANSP:TRANSPARENT
X-MICROSOFT-CDO-ALLDAYEVENT:TRUE
SUMMARY:Learn to Skate at the Mid-Hudson Civic Center
DESCRIPTION:Learn to Skate Register today for Fall 2018/Winter 2019 Sessions! Whether a skater's goal is hockey\, figure skating or recreational proficiency\, this is the place to start! Daily format includes a 30 minute class during Private Skating School Session and 30 minutes of practice. Ages 3 Adult! Not sure what class to enroll in? Feel free to contact our Skating Director\, Gilberto Viadana with any questions you may have: Gilberto@MidHudsonCivicCenter.org
X-ALT-DESC;FMTTYPE=text/html:Learn to Skate Register today for Fall 2018/Winter 2019 Sessions! Whether a skater&rsquo\;s goal is hockey\, figure skating or recreational proficiency\, this is the place to start! Daily format includes a 30 minute class during Private Skating School Session and 30 minutes of practice. Ages 3&ndash\;Adult! Not sure what class to enroll in? Feel free to contact our Skating Director\, Gilberto Viadana with any questions you may have: Gilberto@MidHudsonCivicCenter.org
LOCATION:
UID:e.2770.10479683
SEQUENCE:3
DTSTAMP:20260425T144241Z
URL:https://business.dcrcoc.org/events/details/learn-to-skate-at-the-mid-hudson-civic-center-10479683
END:VEVENT

END:VCALENDAR
