BEGIN:VCALENDAR
VERSION:2.0
PRODID:-//ChamberMaster//Event Calendar 2.0//EN
METHOD:PUBLISH
X-PUBLISHED-TTL:P3D
REFRESH-INTERVAL:P3D
CALSCALE:GREGORIAN
BEGIN:VEVENT
DTSTART:20210325T130000Z
DTEND:20210325T140000Z
X-MICROSOFT-CDO-ALLDAYEVENT:FALSE
SUMMARY:Legal and Human Resource Guidance to Avoid COVID-Related Litigation\, Defending COVID Lawsuits\, COVID Lawsuit Trends
DESCRIPTION:Presented by:\n\nEdward Kowalski\, Human Resources Director\, Ethan Allen HR Services\n\nDavid R. Wise\, Partner\, Mackey\, Butts & Wise\, LLP.\n\n\n\nRegistration in advance is required as space is limited.\n\nTo Register\, Please Click Here\n\n\n\nThank You to Our Sponsors: Branding Pros and S&O Construction Services\, Inc.
X-ALT-DESC;FMTTYPE=text/html:<br />\n<br />\n<span style="font-size:18px\;"><span style="font-family:times new roman\;"><span style="color:#000000\;"><strong>Presented by</strong>:<br />\nEdward Kowalski\, Human Resources Director\, Ethan Allen HR Services<br />\nDavid R. Wise\, Partner\, Mackey\, Butts &amp\; Wise\, LLP.</span><br />\n<br />\n<span style="color: rgb(35\, 35\, 51)\;">Registration in advance is required as space is limited.</span><br />\n<span style="color:#000000\;">To Register\, Please Click</span> <strong><a href="https://dcrcoc-org.zoom.us/meeting/register/tZwvd-CqrjoqHdyJaalSi95C8dx6A2skNfiC" target="_blank"><span style="color:#0000FF\;">Here</span></a></strong><br />\n<br />\n<span style="color:#000000\;"><strong>Thank You to Our Sponsors: </strong></span><strong><a href="https://www.brandingpros.com/" target="_blank"><span style="color:#0000FF\;">Branding Pros</span></a></strong><span style="color:#000000\;"><strong> and </strong></span><strong><a href="http://soconserv.com/" target="_blank"><span style="color:#0000FF\;">S&amp\;O Construction Services\, Inc.</span></a></strong></span></span>
LOCATION:
UID:e.2770.10485031
SEQUENCE:3
DTSTAMP:20260421T144420Z
URL:https://business.dcrcoc.org/events/details/legal-and-human-resource-guidance-to-avoid-covid-related-litigation-defending-covid-lawsuits-covid-lawsuit-trends-10485031
END:VEVENT

END:VCALENDAR
