BEGIN:VCALENDAR
VERSION:2.0
PRODID:-//ChamberMaster//Event Calendar 2.0//EN
METHOD:PUBLISH
X-PUBLISHED-TTL:P3D
REFRESH-INTERVAL:P3D
CALSCALE:GREGORIAN
BEGIN:VEVENT
DTSTART:20171007T200000Z
DTEND:20171007T220000Z
X-MICROSOFT-CDO-ALLDAYEVENT:FALSE
SUMMARY:Ley Lines 2017
DESCRIPTION:Former Wassaic Project artists in residence Kat Clear\, Sabrina Barrios\, and Colin Radcliffe come together to take over the ground floor of Maxon Mills for this special fall exhibition. The show\, on view from October through December\, will be connected to the rest of the Maxon Mills tower for the Haunted Mill on October 28.
X-ALT-DESC;FMTTYPE=text/html:Former Wassaic Project artists in residence Kat Clear\, Sabrina Barrios\, and Colin Radcliffe come together to take over the ground floor of Maxon Mills for this special fall exhibition. The show\, on view from October through December\, will be connected to the rest of the Maxon Mills tower for the Haunted Mill on October 28.
LOCATION:The Wassaic Project: 37 Furnace Bank Road\, 12592
UID:e.2770.10476340
SEQUENCE:3
DTSTAMP:20260426T033124Z
URL:https://business.dcrcoc.org/events/details/ley-lines-2017-10476340
END:VEVENT

END:VCALENDAR
