BEGIN:VCALENDAR
VERSION:2.0
PRODID:-//ChamberMaster//Event Calendar 2.0//EN
METHOD:PUBLISH
X-PUBLISHED-TTL:P3D
REFRESH-INTERVAL:P3D
CALSCALE:GREGORIAN
BEGIN:VEVENT
DTSTART:20171118T010000Z
DTEND:20171118T040000Z
X-MICROSOFT-CDO-ALLDAYEVENT:FALSE
SUMMARY:Lick the Toad Band Returns to The Alley Kat!
DESCRIPTION:Lick the Toad is the band that brings out your inner child - playing Rock n' Roll with a touch of Punk & Glam!  \n\n\n\nThe Alley Kat's food & drink specials\, fully stocked top shelf bar & loads of craft beer offerings\, along with the super talented Lick the Toad - makes for a great night out!\n\n\n\nCheck out the event details on our Facebook page:\n\nLick the Toad Returns to The Alley Kat!
X-ALT-DESC;FMTTYPE=text/html:<span style="color:rgb(75\, 79\, 86)\; font-family:sf optimized\,system-ui\,-apple-system\,blinkmacsystemfont\,.sfnstext-regular\,sans-serif\; font-size:14px">Lick the Toad is the band that brings out your inner child - playing Rock n&#39\; Roll with a touch of Punk &amp\; Glam!&nbsp\;&nbsp\;</span><br />\n<br />\n<span style="color:rgb(75\, 79\, 86)\; font-family:sf optimized\,system-ui\,-apple-system\,blinkmacsystemfont\,.sfnstext-regular\,sans-serif\; font-size:14px">The Alley Kat&#39\;s food &amp\; drink specials\, fully stocked top shelf bar &amp\; loads of craft beer offerings\, along with the super talented Lick the Toad - makes for a great night out!</span><br />\n<br />\nCheck out the event details on our Facebook page:<br />\n<a href="https://www.facebook.com/events/539352713065716/">Lick the Toad Returns to The Alley Kat!</a>\n<h1>&nbsp\;</h1>\n
LOCATION:The Alley Kat 1677 US 9 Wappingers Falls\, New York\, NY 12590
UID:e.2770.10476598
SEQUENCE:3
DTSTAMP:20260426T020622Z
URL:https://business.dcrcoc.org/events/details/lick-the-toad-band-returns-to-the-alley-kat-10476598
END:VEVENT

END:VCALENDAR
