BEGIN:VCALENDAR
VERSION:2.0
PRODID:-//ChamberMaster//Event Calendar 2.0//EN
METHOD:PUBLISH
X-PUBLISHED-TTL:P3D
REFRESH-INTERVAL:P3D
CALSCALE:GREGORIAN
BEGIN:VEVENT
DTSTART:20180915T003000Z
DTEND:20180915T033000Z
X-MICROSOFT-CDO-ALLDAYEVENT:FALSE
SUMMARY:Lick the Toad Rock n' Roll Comes to The Alley Kat!
DESCRIPTION:Lick the Toad is the band that brings out your inner child - playing Rock n' Roll with a touch of Punk & Glam! \n\n\n\n \n\n\n\nThe Alley Kat's food & drink specials\, fully stocked top shelf bar & loads of craft beer offerings\, along with the super talented Lick the Toad - makes for a great night out!\n\n\n\n\n\nCheck out the event details on our Facebook page:\n\nLick the Toad Comes to The Alley Kat!
X-ALT-DESC;FMTTYPE=text/html:<div>\n<div><span style="font-family:inherit">Lick the Toad is the band that brings out your inner child - playing Rock n&#39\; Roll with a touch of Punk &amp\; Glam! </span></div>\n</div>\n\n<div>\n<div>&nbsp\;</div>\n</div>\n\n<div>\n<div><span style="font-family:inherit">The Alley Kat&#39\;s food &amp\; drink specials\, fully stocked top shelf bar &amp\; loads of craft beer offerings\, along with the super talented Lick the Toad - makes for a great night out!</span></div>\n</div>\n<br />\n<br />\nCheck out the event details on our Facebook page:<br />\n<a href="https://www.facebook.com/events/273268666603168/">Lick the Toad Comes to The Alley Kat!</a>\n\n<h1>&nbsp\;</h1>\n
LOCATION:The Alley Kat 1677 US 9 Wappingers Falls\, New York\, NY 12590
UID:e.2770.10479669
SEQUENCE:3
DTSTAMP:20260425T131448Z
URL:https://business.dcrcoc.org/events/details/lick-the-toad-rock-n-roll-comes-to-the-alley-kat-10479669
END:VEVENT

END:VCALENDAR
