BEGIN:VCALENDAR
VERSION:2.0
PRODID:-//ChamberMaster//Event Calendar 2.0//EN
METHOD:PUBLISH
X-PUBLISHED-TTL:P3D
REFRESH-INTERVAL:P3D
CALSCALE:GREGORIAN
BEGIN:VEVENT
DTSTART:20171021T213000Z
DTEND:20171022T010000Z
X-MICROSOFT-CDO-ALLDAYEVENT:FALSE
SUMMARY:Light The Night
DESCRIPTION:Light The Night is The Leukemia & Lymphoma Society's (LLS) annual walk to raise money to fund research for blood cancer cures.
X-ALT-DESC;FMTTYPE=text/html:Light The Night is The Leukemia &amp\; Lymphoma Society&#39\;s (LLS) annual walk to raise money to fund research for blood cancer cures.
LOCATION:Walkway Over the Hudson\, Poughkeepsie side
UID:e.2770.10476326
SEQUENCE:3
DTSTAMP:20260426T033136Z
URL:https://business.dcrcoc.org/events/details/light-the-night-10476326
END:VEVENT

END:VCALENDAR
