BEGIN:VCALENDAR
VERSION:2.0
PRODID:-//ChamberMaster//Event Calendar 2.0//EN
METHOD:PUBLISH
X-PUBLISHED-TTL:P3D
REFRESH-INTERVAL:P3D
CALSCALE:GREGORIAN
BEGIN:VEVENT
DTSTART:20180125T010000Z
DTEND:20180125T040000Z
X-MICROSOFT-CDO-ALLDAYEVENT:FALSE
SUMMARY:Line Dancing at The Alley Kat!
DESCRIPTION:Seasoned two-steppers and beginners welcome as DJ Alan Kohn calls out the dances! Instructors Vanissa and Dan will make sure you keep time and enjoy the night! Great food\, craft beer\, mixed drinks and honky tonk - a great way to get over the hump!\n\n\n\nCheck out the event details on our Facebook page:\n\nLine Dancing at The Alley Kat!
X-ALT-DESC;FMTTYPE=text/html:<span style="color:rgb(75\, 79\, 86)\; font-family:sf optimized\,system-ui\,-apple-system\,blinkmacsystemfont\,.sfnstext-regular\,sans-serif\; font-size:14px">Seasoned two-steppers and beginners welcome as DJ Alan Kohn calls out the dances! Instructors Vanissa and Dan will make sure you keep time and enjoy the night! Great food\, craft beer\, mixed drinks and honky tonk - a great way to get over the hump!</span><br />\n<br />\nCheck out the event details on our Facebook page:<br />\n<a href="https://www.facebook.com/events/1657779134244762/?active_tab=about">Line Dancing at The Alley Kat!</a><br />\n<br />\n&nbsp\;
LOCATION:The Alley Kat 1677 US 9 Wappingers Falls\, New York\, NY 12590
UID:e.2770.10476771
SEQUENCE:3
DTSTAMP:20260425T232420Z
URL:https://business.dcrcoc.org/events/details/line-dancing-at-the-alley-kat-01-24-2018-10476771
END:VEVENT

END:VCALENDAR
