BEGIN:VCALENDAR
VERSION:2.0
PRODID:-//ChamberMaster//Event Calendar 2.0//EN
METHOD:PUBLISH
X-PUBLISHED-TTL:P3D
REFRESH-INTERVAL:P3D
CALSCALE:GREGORIAN
BEGIN:VEVENT
DTSTART:20180415T160000Z
DTEND:20180415T190000Z
X-MICROSOFT-CDO-ALLDAYEVENT:FALSE
SUMMARY:Little Hero Party
DESCRIPTION:Please join us for an afternoon at Mill Creek Caterers of family fun with......HEROS!!!! Come dressed as your favorite community or superhero and enjoy a live DJ\, have your picture taken in the photo booth\, take a chance at winning some AMAZING raffle prizes\, enjoy a child friendly lunch and dessert and meet some Superheros as well as community heros!!! You won't want to miss this event and the chance to support the misson of The Center for the Prevention of Child Abuse.
X-ALT-DESC;FMTTYPE=text/html:Please join us for an afternoon at Mill Creek Caterers&nbsp\;of family fun&nbsp\;with......HEROS!!!! Come dressed as your favorite community or superhero and enjoy a live DJ\, have your picture taken in the photo booth\, take a chance at winning some AMAZING&nbsp\;raffle prizes\, enjoy a child friendly lunch and dessert and meet some Superheros as well as community heros!!! You won&#39\;t want to miss this event and the chance to support the misson of The Center for the Prevention of Child Abuse.
LOCATION:Mill Creek Caterers 17 Route 376 Hopewell Junction\, NY\, 12533
UID:e.2770.10476916
SEQUENCE:3
DTSTAMP:20260425T210440Z
URL:https://business.dcrcoc.org/events/details/little-hero-party-10476916
END:VEVENT

END:VCALENDAR
