BEGIN:VCALENDAR
VERSION:2.0
PRODID:-//ChamberMaster//Event Calendar 2.0//EN
METHOD:PUBLISH
X-PUBLISHED-TTL:P3D
REFRESH-INTERVAL:P3D
CALSCALE:GREGORIAN
BEGIN:VEVENT
DTSTART:20210201T200000Z
DTEND:20210201T210000Z
X-MICROSOFT-CDO-ALLDAYEVENT:FALSE
SUMMARY:Living for Alzheimer’s for people with Alzheimer’s with Montefiore St. Luke's Cornwall (part 2)
DESCRIPTION:A free three-part virtual program by the Alzheimer's Association Hudson Valley Chapter with information about what you need to know following a diagnosis with Alzheimer's or another form of dementia\, what you need to plan and what you need to develop and work with your care team. This program is for people with early-stage dementia. For more information or to RSVP\, call 800.272.3900.
X-ALT-DESC;FMTTYPE=text/html:A free three-part virtual program by the Alzheimer&rsquo\;s Association Hudson Valley Chapter with information about what you need to know following a diagnosis with Alzheimer&rsquo\;s or another form of dementia\, what you need to plan and what you need to develop and work with your care team. This program is for people with early-stage dementia. For more information or to RSVP\, call 800.272.3900.
LOCATION:Virtual
UID:e.2770.10484944
SEQUENCE:3
DTSTAMP:20260421T161613Z
URL:https://business.dcrcoc.org/events/details/living-for-alzheimer-s-for-people-with-alzheimer-s-with-montefiore-st-luke-s-cornwall-part-2-10484944
END:VEVENT

END:VCALENDAR
