BEGIN:VCALENDAR
VERSION:2.0
PRODID:-//ChamberMaster//Event Calendar 2.0//EN
METHOD:PUBLISH
X-PUBLISHED-TTL:P3D
REFRESH-INTERVAL:P3D
CALSCALE:GREGORIAN
BEGIN:VEVENT
DTSTART:20210503T150000Z
DTEND:20210503T160000Z
X-MICROSOFT-CDO-ALLDAYEVENT:FALSE
SUMMARY:Living with Alzheimer’s for middle-stage caregivers
DESCRIPTION:Join us for a free virtual educational program by the Alzheimer's Association offering helpful strategies for providing safe\, effective and comfortable care in the middle stages of Alzheimer's.  To register\, call 800.272.3900.
X-ALT-DESC;FMTTYPE=text/html:Join us for a free virtual educational program by the Alzheimer&#39\;s Association offering helpful strategies for providing safe\, effective and comfortable care in the middle stages of Alzheimer&rsquo\;s.&nbsp\; To register\, call 800.272.3900.
LOCATION:
UID:e.2770.10485108
SEQUENCE:3
DTSTAMP:20260421T113804Z
URL:https://business.dcrcoc.org/events/details/living-with-alzheimer-s-for-middle-stage-caregivers-10485108
END:VEVENT

END:VCALENDAR
