BEGIN:VCALENDAR
VERSION:2.0
PRODID:-//ChamberMaster//Event Calendar 2.0//EN
METHOD:PUBLISH
X-PUBLISHED-TTL:P3D
REFRESH-INTERVAL:P3D
CALSCALE:GREGORIAN
BEGIN:VEVENT
DTSTART:20190413T130000Z
DTEND:20190413T180000Z
X-MICROSOFT-CDO-ALLDAYEVENT:FALSE
SUMMARY:Lose the Muffin Top with Coolsculpting
DESCRIPTION:Lose the Muffin Top with Coolsculpting \n\nCall 845-454-6392 to reserve your free consultation. \n\nLimited Appointments Available.
X-ALT-DESC;FMTTYPE=text/html:Lose the Muffin Top with Coolsculpting&nbsp\;<br />\nCall 845-454-6392 to reserve your free consultation.&nbsp\;<br />\nLimited Appointments Available.&nbsp\;<br />\n&nbsp\;
LOCATION:4 Liberty Street\, Third Floor Poughkeepsie NY 12601
UID:e.2770.10480635
SEQUENCE:3
DTSTAMP:20260423T062807Z
URL:https://business.dcrcoc.org/events/details/lose-the-muffin-top-with-coolsculpting-10480635
END:VEVENT

END:VCALENDAR
