BEGIN:VCALENDAR
VERSION:2.0
PRODID:-//ChamberMaster//Event Calendar 2.0//EN
METHOD:PUBLISH
X-PUBLISHED-TTL:P3D
REFRESH-INTERVAL:P3D
CALSCALE:GREGORIAN
BEGIN:VEVENT
DTSTART:20180429T130000Z
DTEND:20180429T200000Z
X-MICROSOFT-CDO-ALLDAYEVENT:FALSE
SUMMARY:Love Holds Life Ride for Kids With Cancer
DESCRIPTION:Join The Red Knights NY-33 Chapter and The Love Holds Life Team for a dazzling ride through the Dutchess County Countryside. All proceeds from this event will go directly to local Hudson Valley children who are battling cancer and their families to help pay for costs associated with their illness and not covered by insurance. Registration at 9:00am KSU at 11:00am $25 per rider/$15 extra passenger or walkins/ $30 per carload Includes breakfast\, lunch\, live music\, and pins and prizes! Also 50/50\, commemorative T-Shirts\, raffles and more! Rain or shine! Info: Alyssa Kogon (845)546-4215
X-ALT-DESC;FMTTYPE=text/html:Join The Red Knights NY-33 Chapter and The Love Holds Life Team for a dazzling ride through the Dutchess County Countryside. All proceeds from this event will go directly to local Hudson Valley children who are battling cancer and their families to help pay for costs associated with their illness and not covered by insurance. Registration at 9:00am KSU at 11:00am $25 per rider/$15 extra passenger or walkins/ $30 per carload Includes breakfast\, lunch\, live music\, and pins and prizes! Also 50/50\, commemorative T-Shirts\, raffles and more! Rain or shine! Info: Alyssa Kogon (845)546-4215
LOCATION:Vail Wolff McKenna Frye VFW Post 170 in Poughkeepsie 1 Violet Ave\, Poughkeepsie\, New York 12601
UID:e.2770.10476917
SEQUENCE:3
DTSTAMP:20260425T195249Z
URL:https://business.dcrcoc.org/events/details/love-holds-life-ride-for-kids-with-cancer-10476917
END:VEVENT

END:VCALENDAR
