BEGIN:VCALENDAR
VERSION:2.0
PRODID:-//ChamberMaster//Event Calendar 2.0//EN
METHOD:PUBLISH
X-PUBLISHED-TTL:P3D
REFRESH-INTERVAL:P3D
CALSCALE:GREGORIAN
BEGIN:VEVENT
DTSTART:20180317T000000Z
DTEND:20180317T033000Z
X-MICROSOFT-CDO-ALLDAYEVENT:FALSE
SUMMARY:Lucky House at The Alley Kat
DESCRIPTION:Lucky House brings their unique New York Roots Rock N Roll show to The Alley Kat! Covering Linda Ronstadt\, Shooter Jennings & Kings of Leon - they play a little something for everyone! The Alley Kat's food & drink specials\, fully stocked top shelf bar & loads of craft beer offerings\, along with the super talented Lucky House Band - makes for a great night out!\n\n \n\n\n\n\n\n\nCheck out the event details on our Facebook page:\n\nLucky House at The Alley Kat
X-ALT-DESC;FMTTYPE=text/html:<div>\n<div>\n<div>\n<div>\n<div>\n<div>\n<div><span style="color:rgb(75\, 79\, 86)\; font-family:system-ui\,-apple-system\,blinkmacsystemfont\,.sfnstext-regular\,sans-serif\; font-size:14px">Lucky House brings their unique New York Roots Rock N Roll show to The Alley Kat! Covering Linda Ronstadt\, Shooter Jennings &amp\; Kings of Leon - they play a little something for everyone! The Alley Kat&#39\;s food &amp\; drink specials\, fully stocked top shelf bar &amp\; loads of craft beer offerings\, along with the super talented Lucky House Band - makes for a great night out!</span><br />\n&nbsp\;</div>\n</div>\n</div>\n</div>\n</div>\n</div>\n</div>\nCheck out the event details on our Facebook page:<br />\n<a href="https://www.facebook.com/events/213993406008914/">Lucky House at The Alley Kat</a>
LOCATION:The Alley Kat 1677 US 9 Wappingers Falls\, New York\, NY 12590
UID:e.2770.10476830
SEQUENCE:3
DTSTAMP:20260425T210618Z
URL:https://business.dcrcoc.org/events/details/lucky-house-at-the-alley-kat-03-16-2018-10476830
END:VEVENT

END:VCALENDAR
