BEGIN:VCALENDAR
VERSION:2.0
PRODID:-//ChamberMaster//Event Calendar 2.0//EN
METHOD:PUBLISH
X-PUBLISHED-TTL:P3D
REFRESH-INTERVAL:P3D
CALSCALE:GREGORIAN
BEGIN:VEVENT
DTSTART:20180203T010000Z
DTEND:20180203T040000Z
X-MICROSOFT-CDO-ALLDAYEVENT:FALSE
SUMMARY:Lucky House at The Alley Kat
DESCRIPTION:Lucky House brings their unique New York Roots Rock N Roll show to The Alley Kat!  Covering Linda Ronstadt\, Shooter Jennings & Kings of Leon - they play a little something for everyone!  The Alley Kat's food & drink specials\, fully stocked top shlef bar & loads of craft beer offerings\,  along with the super talented Lucky House Band - makes for a great night out!\n\n\n\nCheck out the event details on our Facebook page:\n\nLucky House at The Alley Kat
X-ALT-DESC;FMTTYPE=text/html:<span style="color:rgb(75\, 79\, 86)\; font-family:sf optimized\,system-ui\,-apple-system\,blinkmacsystemfont\,.sfnstext-regular\,sans-serif\; font-size:14px">Lucky House brings their unique New York Roots Rock N Roll show to The Alley Kat! &nbsp\;Covering Linda Ronstadt\, Shooter Jennings &amp\; Kings of Leon - they play a little something for everyone! &nbsp\;The Alley Kat&#39\;s food &amp\; drink specials\, fully stocked top shlef bar &amp\; loads of craft beer offerings\, &nbsp\;along with the super talented Lucky House Band - makes for a great night out!</span><br />\n<br />\nCheck out the event details on our Facebook page:<br />\n<a href="https://www.facebook.com/events/1649286091832360/">Lucky House at The Alley Kat</a>\n<h1>&nbsp\;</h1>\n
LOCATION:The Alley Kat 1677 US 9 Wappingers Falls\, New York\, NY 12590
UID:e.2770.10476757
SEQUENCE:3
DTSTAMP:20260425T232402Z
URL:https://business.dcrcoc.org/events/details/lucky-house-at-the-alley-kat-10476757
END:VEVENT

END:VCALENDAR
