BEGIN:VCALENDAR
VERSION:2.0
PRODID:-//ChamberMaster//Event Calendar 2.0//EN
METHOD:PUBLISH
X-PUBLISHED-TTL:P3D
REFRESH-INTERVAL:P3D
CALSCALE:GREGORIAN
BEGIN:VEVENT
DTSTART:20180602T220000Z
DTEND:20180603T010000Z
X-MICROSOFT-CDO-ALLDAYEVENT:FALSE
SUMMARY:Lucky Orphans 10 Year Anniversary Gala
DESCRIPTION:Lucky Orphans Horse Rescue (LOHR) is an ever-growing not for profit organization dedicated to both providing a sanctuary for unwanted\, abused\, and neglected horses\, and improving the relationship between horses and people.\n\n\n\nWe will be celebrating our 10th year with an anniversary gala event on Saturday\, June 2\, 2018 from 6:00 PM to 9:30 PM right here at Lucky Orphans in Dover.\n\n\n\nWe will be honoring Ian Holback of Harlem Valley Sand and Gravel at our Gala for his outstanding commitment to our organization over the years.  \n\n\n\nCan't attend the Gala? You can still join us for an After Party being held immediately after the Gala from 9:30 PM - 11:00 PM.
X-ALT-DESC;FMTTYPE=text/html:<span style="color:rgb(119\, 119\, 119)\; font-family:helvetica\,arial\,sans-serif\; font-size:12px">Lucky Orphans Horse Rescue (LOHR) is an ever-growing not for profit organization dedicated to both providing a sanctuary for unwanted\, abused\, and neglected horses\, and improving the relationship between horses and people.</span><br />\n<br />\n<span style="color:rgb(119\, 119\, 119)\; font-family:helvetica\,arial\,sans-serif\; font-size:12px">We will be celebrating our 10th year with an anniversary gala event on Saturday\, June 2\, 2018 from 6:00 PM to 9:30 PM right here at Lucky Orphans in Dover.</span><br />\n<br />\n<span style="color:rgb(119\, 119\, 119)\; font-family:helvetica\,arial\,sans-serif\; font-size:12px">We will be honoring Ian Holback of Harlem Valley Sand and Gravel at our Gala for his outstanding commitment to our organization over the years. &nbsp\;</span><br />\n<br />\n<span style="color:rgb(119\, 119\, 119)\; font-family:helvetica\,arial\,sans-serif\; font-size:12px">Can&#39\;t attend the Gala? You can still join us for an After Party being held immediately after the Gala from 9:30 PM - 11:00 PM.</span>
LOCATION:2699 Route 22 Dover Plains\, NY 12522
UID:e.2770.10477829
SEQUENCE:3
DTSTAMP:20260425T170831Z
URL:https://business.dcrcoc.org/events/details/lucky-orphans-10-year-anniversary-gala-10477829
END:VEVENT

END:VCALENDAR
