BEGIN:VCALENDAR
VERSION:2.0
PRODID:-//ChamberMaster//Event Calendar 2.0//EN
METHOD:PUBLISH
X-PUBLISHED-TTL:P3D
REFRESH-INTERVAL:P3D
CALSCALE:GREGORIAN
BEGIN:VEVENT
DTSTART:20171110T210000Z
DTEND:20171112T220000Z
X-MICROSOFT-CDO-ALLDAYEVENT:FALSE
SUMMARY:Made & Given
DESCRIPTION:Skip the Mall and Shop Small this Holiday Season at Made & Given\, New York. Ten independent brands from New York state are joining forces to bring you a unique and eclectic holiday pop-up shop as well as a complimentary happy hour on Friday and Saturday evening.
X-ALT-DESC;FMTTYPE=text/html:Skip the Mall and Shop Small this Holiday Season at Made &amp\; Given\, New York. Ten independent brands from New York state are joining forces to bring you a unique and eclectic holiday pop-up shop as well as a complimentary happy hour on Friday and Saturday evening.
LOCATION:The Little Beacon Space: 291 Main Street\, Beacon\, New York 12508
UID:e.2770.10476405
SEQUENCE:3
DTSTAMP:20260426T020316Z
URL:https://business.dcrcoc.org/events/details/made-given-10476405
END:VEVENT

END:VCALENDAR
