BEGIN:VCALENDAR
VERSION:2.0
PRODID:-//ChamberMaster//Event Calendar 2.0//EN
METHOD:PUBLISH
X-PUBLISHED-TTL:P3D
REFRESH-INTERVAL:P3D
CALSCALE:GREGORIAN
BEGIN:VEVENT
DTSTART:20180125T220000Z
DTEND:20180126T010000Z
X-MICROSOFT-CDO-ALLDAYEVENT:FALSE
SUMMARY:Magic with a Mission feat. Chris Dare to Benefit Abilities First
DESCRIPTION:Illusionist Chris Dare will have his first Hudson Valley stage show "Dare to Believe" on Thursday\, January 25\, 2018 at the Newburgh Brewing Company in Newburgh\, NY to benefit Abilities First\, a not-for-profit organization serving the needs of over 1\,400 children and adults with developmental disabilities\, from pre-school through adulthood throughout the Hudson Valley. VIP tickets are now on sale for $40 and include a VIP Meet & Greet with Chris Dare\, reserved seating\, one complimentary beer or house wine\, complimentary hors d'oeuvres\, and an autographed souvenir. General Admission tickets to the stage show are available for $20 ($30 after January 15). General Admission ticket holders can purchase VIP Meet & Greet Passes for an additional $10. 5:00 p.m. Doors Open 6:30 p.m. Chris performs his special brand of magic\, combining magic\, suggestion\, psychology\, misdirection\, and showmanship during the Dare to Believe Stage Show. 7:30 p.m. VIP Meet & Greet Purchase your tickets at http://www.abilitiesfirstny.org/magic/index.phpp
X-ALT-DESC;FMTTYPE=text/html:Illusionist Chris Dare will have his first Hudson Valley stage show &ldquo\;Dare to Believe&rdquo\; on Thursday\, January 25\, 2018 at the Newburgh Brewing Company in Newburgh\, NY to benefit Abilities First\, a not-for-profit organization serving the needs of over 1\,400 children and adults with developmental disabilities\, from pre-school through adulthood throughout the Hudson Valley. VIP tickets are now on sale for $40 and include a VIP Meet &amp\; Greet with Chris Dare\, reserved seating\, one complimentary beer or house wine\, complimentary hors d&rsquo\;oeuvres\, and an autographed souvenir. General Admission tickets to the stage show are available for $20 ($30 after January 15). General Admission ticket holders can purchase VIP Meet &amp\; Greet Passes for an additional $10. 5:00 p.m. Doors Open 6:30 p.m. Chris performs his special brand of magic\, combining magic\, suggestion\, psychology\, misdirection\, and showmanship during the Dare to Believe Stage Show. 7:30 p.m. VIP Meet &amp\; Greet Purchase your tickets at http://www.abilitiesfirstny.org/magic/index.phpp
LOCATION:Newburgh Brewing Company\, 88 S Colden St\, Newburgh\, New York 12550
UID:e.2770.10476703
SEQUENCE:3
DTSTAMP:20260425T232259Z
URL:https://business.dcrcoc.org/events/details/magic-with-a-mission-feat-chris-dare-to-benefit-abilities-first-10476703
END:VEVENT

END:VCALENDAR
