BEGIN:VCALENDAR
VERSION:2.0
PRODID:-//ChamberMaster//Event Calendar 2.0//EN
METHOD:PUBLISH
X-PUBLISHED-TTL:P3D
REFRESH-INTERVAL:P3D
CALSCALE:GREGORIAN
BEGIN:VEVENT
DTSTART:20191026T160000Z
DTEND:20191026T160000Z
X-MICROSOFT-CDO-ALLDAYEVENT:FALSE
SUMMARY:Make a Difference Day
DESCRIPTION:Walkway Over the Hudson's annual participation in Make-A-Difference Day is planned for Saturday\, October 26th to help with clean up and landscaping around the Walkway Over the Hudson.
X-ALT-DESC;FMTTYPE=text/html:Walkway Over the Hudson&rsquo\;s annual participation in Make-A-Difference Day is planned for Saturday\, October 26th to help with clean up and landscaping around the Walkway Over the Hudson.
LOCATION:East (Poughkeepsie) & West (Highland) Entrances of the Walkway Over the Hudson State Historic Park and Upper Landing Park
UID:e.2770.10480630
SEQUENCE:3
DTSTAMP:20260422T182706Z
URL:https://business.dcrcoc.org/events/details/make-a-difference-day-10480630
END:VEVENT

END:VCALENDAR
