BEGIN:VCALENDAR
VERSION:2.0
PRODID:-//ChamberMaster//Event Calendar 2.0//EN
METHOD:PUBLISH
X-PUBLISHED-TTL:P3D
REFRESH-INTERVAL:P3D
CALSCALE:GREGORIAN
BEGIN:VEVENT
DTSTART:20190920T230000Z
DTEND:20190921T020000Z
X-MICROSOFT-CDO-ALLDAYEVENT:FALSE
SUMMARY:Manifest Your Soulmate
DESCRIPTION:Single and tired of the online dating scene?\n\nSeeking a meaningful relationship?\n\nJoin Dr. Stacey Lamar and learn how your energy and vibration can either deter or manifest healthy relationships.
X-ALT-DESC;FMTTYPE=text/html:Single and tired of the online dating scene?<br />\nSeeking a meaningful relationship?<br />\nJoin Dr. Stacey Lamar and learn how your energy and vibration can either deter or manifest healthy relationships.
LOCATION:The Source NY 143 Boardman Rd\, Bldg 3 Poughkeepsie\, NY 12603
UID:e.2770.10481181
SEQUENCE:3
DTSTAMP:20260422T220858Z
URL:https://business.dcrcoc.org/events/details/manifest-your-soulmate-10481181
END:VEVENT

END:VCALENDAR
