BEGIN:VCALENDAR
VERSION:2.0
PRODID:-//ChamberMaster//Event Calendar 2.0//EN
METHOD:PUBLISH
X-PUBLISHED-TTL:P3D
REFRESH-INTERVAL:P3D
CALSCALE:GREGORIAN
BEGIN:VEVENT
DTSTART:20210616T220000Z
DTEND:20210617T010000Z
X-MICROSOFT-CDO-ALLDAYEVENT:FALSE
SUMMARY:Manufacturing 101: What You Need to Know to Compete
DESCRIPTION:This workshop will discuss:\n\n\n	Understanding micro-manufacturing and its impact on your business\n	Prototyping for success\n	The technologies available and where to go\n	Software and management tools to help decision-making\n	Unconventional options for financing your idea \n\n\n\n\nNote: Attendees must have a product idea or currently be producing a product.
X-ALT-DESC;FMTTYPE=text/html:<p><span style="font-size:16px"><strong>This workshop will discuss:</strong></span></p>\n\n<ul>\n	<li><span style="font-size:16px">Understanding micro-manufacturing and its impact on your business</span></li>\n	<li><span style="font-size:16px"><span style="font-size:16px">Prototyping for success</span></span></li>\n	<li><span style="font-size:16px"><span style="font-size:16px">The technologies available and where to go</span></span></li>\n	<li><span style="font-size:16px"><span style="font-size:16px"><span style="font-size:16px">Software and management tools to help decision-making</span></span></span></li>\n	<li><span style="font-size:16px"><span style="font-size:16px"><span style="font-size:16px"><span style="font-size:16px">Unconventional options for financing your idea&nbsp\;</span></span></span></span></li>\n</ul>\n\n<p><br />\n<span style="font-size:16px"><strong>Note:</strong> Attendees must have a product idea or currently be producing a product.</span></p>\n
LOCATION:Online
UID:e.2770.10485083
SEQUENCE:3
DTSTAMP:20260421T095632Z
URL:https://business.dcrcoc.org/events/details/manufacturing-101-what-you-need-to-know-to-compete-06-16-2021-10485083
END:VEVENT

END:VCALENDAR
