BEGIN:VCALENDAR
VERSION:2.0
PRODID:-//ChamberMaster//Event Calendar 2.0//EN
METHOD:PUBLISH
X-PUBLISHED-TTL:P3D
REFRESH-INTERVAL:P3D
CALSCALE:GREGORIAN
BEGIN:VEVENT
DTSTART:20200601T220000Z
DTEND:20200602T010000Z
X-MICROSOFT-CDO-ALLDAYEVENT:FALSE
SUMMARY:Manufacturing 101- What You Need to Know to Compete (POSTPONED)
DESCRIPTION:This workshop has been postponed.\n\n\n\nTopics Include:\n\n\n	\n	Understanding micro-manufacturing and its impact on your business\n	\n	\n	Prototyping for success\n	\n	\n	The technologies available and where to go\n	\n	\n	Software and management tools to help decision-making\n	\n	\n	Unconventional options for financing your idea \n	\n\n\n*Must have a product idea or currently be producing a product.\n\n\n\n2-Part Series\, Must attend both sessions.
X-ALT-DESC;FMTTYPE=text/html:<p><span style="color:#4c4c4c"><span style="font-size:16px"><strong>This workshop has been </strong></span></span><span style="color:#c41f4a"><span style="font-size:16px"><strong>postponed.</strong></span></span><br />\n<br />\n<span style="color:#4c4c4c"><span style="font-size:16px"><strong>Topics Include:</strong></span></span></p>\n\n<ul>\n	<li>\n	<p><span style="color:#4c4c4c"><span style="font-size:16px">Understanding micro-manufacturing and its impact on your business</span></span></p>\n	</li>\n	<li>\n	<p><span style="color:#4c4c4c"><span style="font-size:16px">Prototyping for success</span></span></p>\n	</li>\n	<li>\n	<p><span style="color:#4c4c4c"><span style="font-size:16px">The technologies available and where to go</span></span></p>\n	</li>\n	<li>\n	<p><span style="color:#4c4c4c"><span style="font-size:16px">Software and management tools to help decision-making</span></span></p>\n	</li>\n	<li>\n	<p><span style="color:#4c4c4c"><span style="font-size:16px">Unconventional options for financing your idea&nbsp\;</span></span></p>\n	</li>\n</ul>\n\n<p><span style="color:#4c4c4c"><span style="font-size:16px"><em>*Must have a product idea or currently be producing a product.</em></span></span><br />\n<br />\n<strong><span style="color:#d00c3b"><span style="font-size:16px">2-Part Series\, Must attend both sessions.</span></span></strong></p>\n
LOCATION:Think Dutchess 3 Neptune Rd. Suite A21 Poughkeepsie\, NY 12601
UID:e.2770.10482651
SEQUENCE:3
DTSTAMP:20260422T045037Z
URL:https://business.dcrcoc.org/events/details/manufacturing-101-what-you-need-to-know-to-compete-10482651
END:VEVENT

END:VCALENDAR
