BEGIN:VCALENDAR
VERSION:2.0
PRODID:-//ChamberMaster//Event Calendar 2.0//EN
METHOD:PUBLISH
X-PUBLISHED-TTL:P3D
REFRESH-INTERVAL:P3D
CALSCALE:GREGORIAN
BEGIN:VEVENT
DTSTART:20180321T113000Z
DTEND:20180321T130000Z
X-MICROSOFT-CDO-ALLDAYEVENT:FALSE
SUMMARY:March Contact Breakfast
DESCRIPTION:Monthly contact breakfast featuring Dutchess County Executive Marcus Molinaro.\n\n\n\nSponsored by Marshall & Sterling Insurance.\n\n\n\nAs you all know\, there are many people in need of our assistance. The Chamber's Ambassador committee has partnered with our Workforce Development Center to collect canned and dry goods at our Contact Breakfast. Your donations are greatly appreciated.\np.p1 {margin: 0.0px 0.0px 0.0px 0.0px\; font: 15.0px Calibri}
X-ALT-DESC;FMTTYPE=text/html:<p><span style="font-size: 14px\;"><span style="font-family: arial\;">Monthly contact breakfast featuring Dutchess County Executive Marcus Molinaro.<br />\n<br />\nSponsored by <a href="https://www.marshallsterling.com/" target="_blank">Marshall &amp\; Sterling Insurance</a>.</span></span><br />\n<br />\n<span style="font-size: 14px\;"><span style="font-family: arial\;"><strong style="color: rgb(51\, 51\, 51)\; font-family: sans-serif\, Arial\, Verdana\, &quot\;Trebuchet MS&quot\;\; font-size: 13px\; background-color: rgb(255\, 255\, 255)\;">As you all know\, there are many people in need of our assistance. The Chamber&#39\;s Ambassador committee has partnered with our Workforce Development Center to collect canned and dry goods at our Contact Breakfast. Your donations are greatly appreciated.</strong></span></span></p>\n<style type="text/css">p.p1 {margin: 0.0px 0.0px 0.0px 0.0px\; font: 15.0px Calibri}\n</style>\n
LOCATION:The Poughkeepsie Grand Hotel & Conference Center 40 Civic Center Plaza Poughkeepsie\, NY 12601
UID:e.2770.10476417
SEQUENCE:3
DTSTAMP:20260425T210254Z
URL:https://business.dcrcoc.org/events/details/march-contact-breakfast-10476417
END:VEVENT

END:VCALENDAR
