BEGIN:VCALENDAR
VERSION:2.0
PRODID:-//ChamberMaster//Event Calendar 2.0//EN
METHOD:PUBLISH
X-PUBLISHED-TTL:P3D
REFRESH-INTERVAL:P3D
CALSCALE:GREGORIAN
BEGIN:VEVENT
DTSTART:20171014T160000Z
DTEND:20171014T193000Z
X-MICROSOFT-CDO-ALLDAYEVENT:FALSE
SUMMARY:Marine Corps League of Dutchess County- Gift Basket Raffle
DESCRIPTION:Marine Corps League of Dutchess County a Veterans Group having a Basket Raffle to raise funds for Veterans and Children and Youths in Dutchess County We are raffling off 50 large gift baskets\, 20 gift cards\, 50/50 \, Lotto Baskets and the kitchen will be open for lunch\, with hot sandwiches and refreshments. Come out and help the Marines Veterans.
X-ALT-DESC;FMTTYPE=text/html:Marine Corps League of Dutchess County a Veterans Group having a Basket Raffle to raise funds for Veterans and Children and Youths in Dutchess County We are raffling off 50 large gift baskets\, 20 gift cards\, 50/50 \, Lotto Baskets and the kitchen will be open for lunch\, with hot sandwiches and refreshments. Come out and help the Marines Veterans.
LOCATION:413 Main St. Beacon\,NY in Memorial Building/ Bingo Hall
UID:e.2770.10476343
SEQUENCE:3
DTSTAMP:20260426T033626Z
URL:https://business.dcrcoc.org/events/details/marine-corps-league-of-dutchess-county-gift-basket-raffle-10476343
END:VEVENT

END:VCALENDAR
