BEGIN:VCALENDAR
VERSION:2.0
PRODID:-//ChamberMaster//Event Calendar 2.0//EN
METHOD:PUBLISH
X-PUBLISHED-TTL:P3D
REFRESH-INTERVAL:P3D
CALSCALE:GREGORIAN
BEGIN:VEVENT
DTSTART:20210222T230000Z
DTEND:20210223T000000Z
X-MICROSOFT-CDO-ALLDAYEVENT:FALSE
SUMMARY:Marist College Paralegal Certificate Program virtual info session
DESCRIPTION:Give us 24 weekends and we will help you launch a new career!!\n\nMarist College offers an American Bar Association approved Weekend Paralegal Certificate program beginning March 2021. With instructors who are practicing attorneys\, the program offers comprehensive training in the theory and skills required to be a successful Paralegal. Transfer in 36 credits you have earned from prior college-level work\, successfully complete the eight courses\, 24 credits\, to receive the Paralegal Certificate. Complete the entire program in just 12 months! An new career path could be waiting for you! Classes begin the weekend of March 6-7\, 2021!\n\n \n\nPlease join us for one of our Paralegal Information Sessions via Zoom  \n\nWednesday\, 2/17/21 at 6pm\n\nMonday\, 2/22/21 at 6pm\n\nTo Register for an Information Session or for more information please contact  Donna.Tompkins@Marist.edu / 845.575.3000 Ext. 2205 or refer to our website   https://www.marist.edu/professional-programs/paralegal
X-ALT-DESC;FMTTYPE=text/html:<strong>Give us 24 weekends and we will help you launch a new career!!</strong><br />\nMarist College offers an American Bar Association approved Weekend Paralegal Certificate program beginning March 2021. With instructors who are practicing attorneys\, the program offers comprehensive training in the theory and skills required to be a successful Paralegal. Transfer in 36 credits you have earned from prior college-level work\, successfully complete the eight courses\, 24 credits\, to receive the Paralegal Certificate. Complete the entire program in just 12 months! An new career path could be waiting for you! Classes begin the weekend of March 6-7\, 2021!<br />\n&nbsp\;<br />\nPlease join us for one of our Paralegal Information Sessions via Zoom &ndash\;<br />\nWednesday\, 2/17/21 at 6pm<br />\nMonday\, 2/22/21 at 6pm<br />\nTo Register for an Information Session or for more information please contact&nbsp\; <a href="mailto:Donna.Tompkins@Marist.edu">Donna.Tompkins@Marist.edu</a> / 845.575.3000 Ext. 2205 or refer to our website &ndash\; <a href="https://www.marist.edu/professional-programs/paralegal">https://www.marist.edu/professional-programs/paralegal</a>
LOCATION:Virtual via Zoom
UID:e.2770.10484981
SEQUENCE:3
DTSTAMP:20260421T161310Z
URL:https://business.dcrcoc.org/events/details/marist-college-paralegal-certificate-program-virtual-info-session-02-22-2021-10484981
END:VEVENT

END:VCALENDAR
