BEGIN:VCALENDAR
VERSION:2.0
PRODID:-//ChamberMaster//Event Calendar 2.0//EN
METHOD:PUBLISH
X-PUBLISHED-TTL:P3D
REFRESH-INTERVAL:P3D
CALSCALE:GREGORIAN
BEGIN:VEVENT
DTSTART:20181024T190000Z
DTEND:20181024T200000Z
X-MICROSOFT-CDO-ALLDAYEVENT:FALSE
SUMMARY:Marketing Expert Panel - Putting the Power Into Your PR
DESCRIPTION:"Putting the power into your PR"\, featuring Filomena Fanelli of Impact PR & Communications\, Kate Rabe of Marketing Inbound and Ren e Bulla of Momentum Advertising.\n\n \n\nSponsored by: Hudson Valley Federal Credit Union\, N&S Supply\, and Stenger Roberts Davis & Diamond\, LLP
X-ALT-DESC;FMTTYPE=text/html:<strong><em><span style="font-family:arial\,sans-serif\;"><span style="font-size:12pt\;">&ldquo\;Putting the power into your PR&rdquo\;\,&nbsp\;</span></span></em></strong><span style="font-family:arial\,sans-serif\;"><span style="font-size:12pt\;">featuring&nbsp\;<strong>Filomena Fanelli of Impact PR &amp\; Communications</strong>\,&nbsp\;<strong>Kate Rabe of Marketing Inbound</strong>&nbsp\;and&nbsp\;</span></span><strong><span style="font-family:arial\,sans-serif\;"><span style="font-size:12pt\;">Ren&eacute\;e</span></span></strong><span style="font-family:arial\,sans-serif\;"><span style="font-size:12pt\;"> <strong>Bulla of Momentum Advertising</strong>.</span></span><br />\n<span style="font-size: 16px\;">&nbsp\;<br />\n<strong>Sponsored by</strong>: <a href="http://www.hvfcu.org" target="_blank"><span style="color: rgb(0\, 0\, 255)\;">Hudson Valley Federal Credit Union</span></a>\, <a href="http://www.nssupply.com" target="_blank"><span style="color: rgb(0\, 0\, 255)\;">N&amp\;S Supply</span></a>\, and <a href="http://www.srddlaw.com" target="_blank"><span style="color: rgb(0\, 0\, 255)\;">Stenger Roberts Davis &amp\; Diamond\, LLP</span></a></span>
LOCATION:Mid-Hudson Civic Center 14 Civic Center Plaza Poughkeepsie
UID:e.2770.10479693
SEQUENCE:3
DTSTAMP:20260425T131433Z
URL:https://business.dcrcoc.org/events/details/marketing-expert-panel-putting-the-power-into-your-pr-10479693
END:VEVENT

END:VCALENDAR
