BEGIN:VCALENDAR
VERSION:2.0
PRODID:-//ChamberMaster//Event Calendar 2.0//EN
METHOD:PUBLISH
X-PUBLISHED-TTL:P3D
REFRESH-INTERVAL:P3D
CALSCALE:GREGORIAN
BEGIN:VEVENT
DTSTART:20210427T170000Z
DTEND:20210427T180000Z
X-MICROSOFT-CDO-ALLDAYEVENT:FALSE
SUMMARY:Marketing Tourism & Hospitality Webinar: Planning for Recovery
DESCRIPTION:Register for this FREE virtual event on Tuesday\, April 27 at 1 p.m. exclusively for the Tourism and Hospitality industry in Dutchess County! Break the Ice Media presents: Insights and information to help travel and tourism organizations pivot and plan for the future. Topics that will be discussed include marketing during a pandemic/crisis\; trust is the new competitive edge for branding initiatives\; traveler intent and emerging trends. Recovery is a journey   We must be alert and armed with information as markets and consumers move through their recovery journey   the time to start is now! Please join us for the informative presentation and Q&A opportunity. Zoom information will be sent to you prior to the event.
X-ALT-DESC;FMTTYPE=text/html:Register for this FREE virtual event on Tuesday\, April 27 at 1 p.m. exclusively for the Tourism and Hospitality industry in Dutchess County! Break the Ice Media presents: Insights and information to help travel and tourism organizations pivot and plan for the future. Topics that will be discussed include marketing during a pandemic/crisis\; trust is the new competitive edge for branding initiatives\; traveler intent and emerging trends. Recovery is a journey &ndash\; We must be alert and armed with information as markets and consumers move through their recovery journey &ndash\; the time to start is now! Please join us for the informative presentation and Q&amp\;A opportunity. Zoom information will be sent to you prior to the event.
LOCATION:Zoom webinar
UID:e.2770.10485095
SEQUENCE:3
DTSTAMP:20260421T131142Z
URL:https://business.dcrcoc.org/events/details/marketing-tourism-hospitality-webinar-planning-for-recovery-10485095
END:VEVENT

END:VCALENDAR
