BEGIN:VCALENDAR
VERSION:2.0
PRODID:-//ChamberMaster//Event Calendar 2.0//EN
METHOD:PUBLISH
X-PUBLISHED-TTL:P3D
REFRESH-INTERVAL:P3D
CALSCALE:GREGORIAN
BEGIN:VEVENT
DTSTART:20180921T200000Z
DTEND:20180921T230000Z
X-MICROSOFT-CDO-ALLDAYEVENT:FALSE
SUMMARY:Marta's Vineyard - International RIesling Weekend
DESCRIPTION:INTERNATIONAL RIESLING WEEKEND\n\nFriday\, Sept. 21st\, 4:00 - 7pm\n\nSaturday\, Sept. 22nd\, 2:00 - 7pm\n\nSunday\, Sept. 23rd\, 1:00 - 7pm \n\nIf you think Riesling is a sweet wine\, then... THINK AGAIN!\n\n That's right\, some of it is bone dry\, depending on the country of origin and the style a producer wants to create. It can range from steely dryness to luxuriously viscous and sweet.\n\nThe finest examples also display highly sought after notes of Petrol. While it may sound unappealing\, it is utterly awesome and complex. (If you think Petrol sounds bad\, think about "cat's pee\," used to describe Sauvignon Blanc).\n\nWe will be there to guide you which foods these wines pair best with\, to enhance your eating and drinking pleasure.\n\nSeven different wines\n\nCountries represented:\n\nUS(Hudson Valley)\, France\, Austria\, Germany
X-ALT-DESC;FMTTYPE=text/html:<h4 style="text-align:center"><span style="font-size:36pt"><strong><span style="color:rgb(165\, 71\, 134)"><em>INTERNATIONAL RIESLING WEEKEND</em></span></strong></span></h4>\n\n<h4 style="text-align:center"><span style="font-family:times new roman\,times\,serif\; font-size:24pt">Friday\, Sept. 21<sup>st</sup>\, 4:00 - 7pm</span><br />\n<span style="font-family:times new roman\,times\,serif\; font-size:24pt">Saturday\, Sept. 22<sup>nd</sup>\, 2:00 - 7pm</span><br />\n<span style="font-family:times new roman\,times\,serif\; font-size:24pt">Sunday\, Sept. 23<sup>rd</sup>\, 1:00 - 7pm&nbsp\;</span></h4>\n\n<h4 style="text-align:center"><strong style="font-size:18pt"><span style="color:rgb(165\, 71\, 134)">If you think Riesling is a sweet wine\, then...&nbsp\;<span style="color:rgb(129\, 172\, 64)">THINK AGAIN!</span></span></strong></h4>\n\n<p style="text-align:center">&nbsp\;<span style="font-family:arial\,helvetica\,sans-serif\; font-size:14pt">That&rsquo\;s right\, some of it is bone dry\, depending on the country of origin and the style a producer wants to create. It can range from steely dryness to luxuriously viscous and sweet.</span></p>\n\n<p style="text-align:center"><span style="font-family:arial\,helvetica\,sans-serif\; font-size:14pt">The finest examples also display highly sought after notes of Petrol. While it may sound unappealing\, it is utterly awesome and complex. (If you think Petrol sounds bad\, think about &ldquo\;cat&rsquo\;s pee\,&rdquo\; used to describe Sauvignon Blanc).</span></p>\n\n<p style="text-align:center"><span style="font-family:arial\,helvetica\,sans-serif\; font-size:14pt">We will be there to guide you which foods these wines pair best with\, to enhance your eating and drinking pleasure.</span></p>\n\n<p style="text-align:center"><span style="font-size:18pt"><strong><span style="color:rgb(165\, 71\, 134)\; font-family:arial\,helvetica\,sans-serif">Seven different wines<br />\n<span style="color:rgb(0\, 0\, 0)\; font-size:14pt"><span style="font-size:18pt">Countries represented:</span><br />\n<span style="font-size:18pt">US(Hudson Valley)\, France\, Austria\, Germany</span></span></span></strong></span></p>\n
LOCATION:Marta's Vineyard: South Road Square\, 1955 South Road\, Poughkeepsie\, NY 12601
UID:e.2770.10479722
SEQUENCE:3
DTSTAMP:20260425T131346Z
URL:https://business.dcrcoc.org/events/details/marta-s-vineyard-international-riesling-weekend-10479722
END:VEVENT

END:VCALENDAR
