BEGIN:VCALENDAR
VERSION:2.0
PRODID:-//ChamberMaster//Event Calendar 2.0//EN
METHOD:PUBLISH
X-PUBLISHED-TTL:P3D
REFRESH-INTERVAL:P3D
CALSCALE:GREGORIAN
BEGIN:VEVENT
DTSTART:20180317T190000Z
DTEND:20180317T230000Z
X-MICROSOFT-CDO-ALLDAYEVENT:FALSE
SUMMARY:Marta's Vineyard St. Patrick's Day Class & Tasting
DESCRIPTION:Irish Whiskey from The Emerald Isle\n\nJoin Marta's Vineyard for a St. Patrick's Irish Whiskey Tasting and Class \n\nAye Laddie! Marta's Vineyard is offerin' a special class to teach you why Irish Whiskey is so different and pleasureable from the rest!  \n\n\n	\n		\n			\n			CLASS (Advance registration is required\, seats are limited so hurry!)\n\n			March 17th at 3:00pm $10/person \n\n			TASTING\n\n			March 17th 4-7:00 pm (free for all)\n\n			4 special Irish Whiskeys will be served:\n\n			\n				Kilbeggin\n				Coonemara\n				Jameson Cask finished\n				Redbreast 12 year \n			\n\n			Please call 845-218-9672 for advance registration. See ya soon\, lads and lassies!
X-ALT-DESC;FMTTYPE=text/html:<p style="text-align:center"><span style="font-size:36pt"><strong>Irish Whiskey from The Emerald Isle</strong></span></p>\n\n<p style="text-align:center"><span style="color:rgb(0\, 128\, 0)\; font-size:14pt"><span style="font-size:18pt">Join Marta&#39\;s Vineyard for a St. Patrick&#39\;s Irish Whiskey Tasting and Class</span></span><strong style="font-size:14pt"><span style="color:rgb(51\, 153\, 102)">&nbsp\;</span></strong></p>\n\n<p style="text-align:center"><span style="font-size:14pt"><em>Aye Laddie!&nbsp\;</em></span><span style="font-size:12pt">Marta&#39\;s Vineyard is offerin&#39\; a special class to teach you why Irish Whiskey is so different and pleasureable from the rest!</span>&nbsp\;&nbsp\;</p>\n\n<table style="background-color:rgb(255\, 255\, 255)\; color:rgb(34\, 34\, 34)\; font-family:arial\,sans-serif\; font-size:16px\; height:431px\; margin-left:auto\; margin-right:auto\; width:991px">\n	<tbody>\n		<tr>\n			<td style="height:381px\; vertical-align:top\; width:423px">\n			<p><span style="color:rgb(0\, 128\, 0)"><span style="font-size:18pt"><strong>CLASS</strong></span><span style="font-size:18pt"><strong>&nbsp\;</strong></span></span><span style="font-size:12pt"><strong><em>(A</em><em>dvance registration is required\, seats are limited so hurry!)</em></strong></span></p>\n\n			<p><span style="font-size:14pt">March 17<sup>th</sup>&nbsp\;at 3:00pm $10/person&nbsp\;</span></p>\n\n			<p><span style="color:rgb(0\, 128\, 0)\; font-size:18pt"><strong>TASTING</strong></span><br />\n			<span style="font-size:14pt">March 17<sup>th</sup>&nbsp\;4-7:00 pm&nbsp\;<span style="font-size:12pt"><strong><em>(free for all)</em></strong></span></span></p>\n\n			<p><span style="font-size:18pt"><strong>4 special&nbsp\;<span style="color:rgb(0\, 128\, 0)">Irish Whiskeys</span>&nbsp\;will be served:</strong></span></p>\n\n			<ul>\n				<li><span style="font-size:14pt">Kilbeggin</span></li>\n				<li><span style="font-size:14pt">Coonemara</span></li>\n				<li><span style="font-size:14pt">Jameson Cask finished</span></li>\n				<li><span style="font-size:14pt">Redbreast 12 year</span>&nbsp\;</li>\n			</ul>\n\n			<p><span style="font-size:12pt">Please call&nbsp\;<a href="tel:(845)%20218-9672" style="color: rgb(17\, 85\, 204)\;" target="_blank">845-218-9672</a>&nbsp\;for advance registration. See ya soon\, lads and lassies!</span>&nbsp\;&nbsp\;</p>\n			</td>\n		</tr>\n	</tbody>\n</table>\n
LOCATION:1955 South Rd\, Poughkeepsie\, NY 12601
UID:e.2770.10476856
SEQUENCE:3
DTSTAMP:20260425T210345Z
URL:https://business.dcrcoc.org/events/details/marta-s-vineyard-st-patrick-s-day-class-tasting-10476856
END:VEVENT

END:VCALENDAR
