BEGIN:VCALENDAR
VERSION:2.0
PRODID:-//ChamberMaster//Event Calendar 2.0//EN
METHOD:PUBLISH
X-PUBLISHED-TTL:P3D
REFRESH-INTERVAL:P3D
CALSCALE:GREGORIAN
BEGIN:VEVENT
DTSTART:20191016T133000Z
DTEND:20191016T150000Z
X-MICROSOFT-CDO-ALLDAYEVENT:FALSE
SUMMARY:Master Your Membership
DESCRIPTION:Whether a brand new member\, a new employee of a member\, or a member just getting back into the swing of things\, the best place to start is by attending Master Your Membership.\n\n\n\nAttendees will learn how the departments of membership\, events\, communications\, The Chamber Foundation\, and Workforce Development Center operate for the benefit of members. Information about all the services included with your membership dues will be provided and this is a great opportunity to ask questions.\n\n\n\nSponsored by: Talex Media\, LLC\n\n\n\nPlease\, only one representative per company.\n\nTo register\, call (845) 454-1700\, ext.1000 or email: frontdesk@dcrcoc.org
X-ALT-DESC;FMTTYPE=text/html:<br />\n<span style="font-family: times new roman\;"><span style="font-size: 14px\;">Whether a brand new member\, a new employee of a member\, or a member just getting back into the swing of things\, the best place to start is by attending <em>Master Your Membership</em>.<br />\n<br />\nAttendees will learn how the departments of membership\, events\, communications\, The Chamber Foundation\, and Workforce Development Center operate for the benefit of members. Information about all the services included with your membership dues will be provided and this is a great opportunity to ask questions.<br />\n<br />\nSponsored by: <a href="http://www.talexmedia.com"><span style="color: rgb(0\, 0\, 255)\;">Talex Media\, LLC</span></a></span><br />\n<br />\n<span style="font-size: 16px\;"><strong>Please\, only one representative per company.</strong><br />\nTo register\, call (845) 454-1700\, ext.1000 or email: <span style="color: rgb(0\, 0\, 255)\;">frontdesk@dcrcoc.org</span></span></span>
LOCATION:The Poughkeepsie Grand Hotel 40 Civic Center Plaza Poughkeepsie
UID:e.2770.10480678
SEQUENCE:3
DTSTAMP:20260422T182719Z
URL:https://business.dcrcoc.org/events/details/master-your-membership-10480678
END:VEVENT

END:VCALENDAR
