BEGIN:VCALENDAR
VERSION:2.0
PRODID:-//ChamberMaster//Event Calendar 2.0//EN
METHOD:PUBLISH
X-PUBLISHED-TTL:P3D
REFRESH-INTERVAL:P3D
CALSCALE:GREGORIAN
BEGIN:VEVENT
DTSTART:20200708T160000Z
DTEND:20200708T173000Z
X-MICROSOFT-CDO-ALLDAYEVENT:FALSE
SUMMARY:Master Your Membership
DESCRIPTION:Whether a brand new member\, a new employee of an existing member\, or a member just getting back into the swing of things\, the best place to start is by attending Master Your Membership.\n\n\n\nAttendees will learn how the departments of membership\, events\, communications\, The Chamber Foundation\, and Workforce Development Center operate for the benefit of members. Information about all the services included with your membership dues will be provided and this is a great opportunity to ask questions. Learn more about taking advantage of membership benefits\, as well as additional information regarding advocacy and resources. \n\n\n\nRegistration is required in advance\, as space is limited. \n\nTo Register: Please Click HERE\n\n\n\n\n\nSponsored By: Atlas Star and Poughkeepsie Journal/LocaliQ
X-ALT-DESC;FMTTYPE=text/html:<span style="font-size:16px\;"><span style="font-family:tahoma\;">Whether a brand new member\, a new employee of an existing member\, or a member just getting back into the swing of things\, the best place to start is by attending Master Your Membership.<br />\n<br />\nAttendees will learn how the departments of membership\, events\, communications\, The Chamber Foundation\, and Workforce Development Center operate for the benefit of members. Information about all the services included with your membership dues will be provided and this is a great opportunity to ask questions. Learn more about taking advantage of membership benefits\, as well as additional information regarding advocacy and resources.&nbsp\;</span></span><br />\n<br />\n<span style="font-size:16px\;"><span style="font-family:tahoma\;">Registration is required in advance\, as space is limited.&nbsp\;</span><br />\n<span style="font-size:18px\;">To Register: Please Click <strong><a href="https://us02web.zoom.us/webinar/register/WN_XoL3D8LLTbSnV16PaTPs3A" target="_blank"><span style="color:#0000FF\;">HERE</span></a></strong></span></span><br />\n<br />\n<br />\n<strong style="font-family: tahoma\; font-size: 16px\;">Sponsored By: <a href="https://www.atlastar.com/" target="_blank"><span style="color:#0000FF\;">Atlas Star</span></a> and&nbsp\;<a href="https://newyork.localiq.com/poughkeepsie" target="_blank"><span style="color: rgb(0\, 0\, 255)\;">Poughkeepsie Journal/LocaliQ</span></a></strong>
LOCATION:
UID:e.2770.10481461
SEQUENCE:3
DTSTAMP:20260422T032253Z
URL:https://business.dcrcoc.org/events/details/master-your-membership-10481461
END:VEVENT

END:VCALENDAR
