BEGIN:VCALENDAR
VERSION:2.0
PRODID:-//ChamberMaster//Event Calendar 2.0//EN
METHOD:PUBLISH
X-PUBLISHED-TTL:P3D
REFRESH-INTERVAL:P3D
CALSCALE:GREGORIAN
BEGIN:VEVENT
DTSTART:20171010T153000Z
DTEND:20171010T170000Z
X-MICROSOFT-CDO-ALLDAYEVENT:FALSE
SUMMARY:Master Your Membership Lunch
DESCRIPTION:* THIS EVENT IS FULL!\n\n\n\nAre you or your business new to the Chamber or looking to maximize your membership? Get to know the Chamber staff and other members better at the Master Your Membership Lunch in the Chamber's Conference Room.\n\nOrange Bank & Trust Company proudly sponsors this Master Your Membership Lunch.\n\n\n\nFalafel Town Mediterranean Cafe will provide lunch. Only one rep per company to attend. If there is available space we'd be happy to put you on a waiting list\, just call Lauren at (845) 454-1700 x 1000 or email lschultz@dcrcoc.org.  \n\nSponsored by Orange Bank & Trust Co.
X-ALT-DESC;FMTTYPE=text/html:<p><span style="font-size:20px\;"><strong>*&nbsp\;</strong><u><strong>THIS EVENT IS FULL!</strong></u></span><br />\n<br />\nAre you or your business new to the Chamber or looking to maximize your membership? Get to know the Chamber staff and other members better at the Master Your Membership Lunch in the Chamber&rsquo\;s Conference Room.<br />\nOrange Bank &amp\; Trust Company proudly sponsors this Master Your Membership Lunch.<br />\n<br />\n<span style="font-family:calibri\;"><span style="font-size:11.0pt\;">Falafel Town Mediterranean Cafe will provide lunch.&nbsp\;</span></span>Only&nbsp\;one rep per company to attend. If there is available space we&#39\;d be happy to put you on a waiting list\, just call Lauren at (845) 454-1700 x 1000 or email<span style="color:#00FFFF\;"> </span><span style="color:#0000CD\;">lschultz@dcrcoc.org</span>. &nbsp\;</p>\n\n<p>Sponsored by <a href="https://orangebanktrust.com/" target="_blank"><span style="color:#0000CD\;">Orange Bank &amp\; Trust Co.</span></a></p>\n
LOCATION:Dutchess County Regional Chamber of Commerce 1 Civic Center Plaza\, 4th Floor\, Poughkeepsie
UID:e.2770.10474025
SEQUENCE:3
DTSTAMP:20260426T033316Z
URL:https://business.dcrcoc.org/events/details/master-your-membership-lunch-10-10-2017-10474025
END:VEVENT

END:VCALENDAR
