BEGIN:VCALENDAR
VERSION:2.0
PRODID:-//ChamberMaster//Event Calendar 2.0//EN
METHOD:PUBLISH
X-PUBLISHED-TTL:P3D
REFRESH-INTERVAL:P3D
CALSCALE:GREGORIAN
BEGIN:VEVENT
DTSTART:20180110T163000Z
DTEND:20180110T180000Z
X-MICROSOFT-CDO-ALLDAYEVENT:FALSE
SUMMARY:Master Your Membership Lunch
DESCRIPTION:Whether a brand new member\, a new employee of a member\, or a member just getting back into the swing of things\, the best place to start is by attending the Master Your Membership Lunch.\n\n\n\nLunch will be provided at this complimentary event thanks to our generous sponsor The Arc of Dutchess.\n\n \n\nAttendees will meet the Chamber staff and learn how the departments of membership\, events\, communications\, The Chamber Foundation\, and Workforce Development Center operate for the benefit of members. Information about all the services included with your membership dues will be provided and this is a great opportunity to ask questions.\n\n\n\nPlease\, only one representative per company.\n\nCall (845) 454-1700\, ext.1000 or email: lschultz@dcrcoc.org
X-ALT-DESC;FMTTYPE=text/html:Whether a brand new member\, a new employee of a member\, or a member just getting back into the swing of things\, the best place to start is by attending the&nbsp\;Master Your Membership Lunch.<br />\n<br />\nLunch will be provided at this complimentary event thanks to our generous sponsor <strong><a href="http://www.dutchess-arc.org" target="_blank"><span style="color: rgb(0\, 0\, 255)\;">The Arc of&nbsp\;Dutchess</span></a></strong><span style="color: rgb(0\, 0\, 255)\;">.</span><br />\n&nbsp\;<br />\nAttendees will meet the Chamber staff and learn how the departments of membership\, events\, communications\, The Chamber Foundation\, and Workforce Development Center operate for the benefit of members. Information about all the services included with your membership dues will be provided and this is a great opportunity to ask questions.<br />\n<br />\nPlease\, only one representative per company.<br />\nCall (845) 454-1700\, ext.1000 or email: lschultz@dcrcoc.org<br />\n&nbsp\;
LOCATION:Dutchess County Regional Chamber of Commerce 1 Civic Center Plaza\, 4th Floor Chamber Conference Room Poughkeepsie\, NY 12601
UID:e.2770.10476389
SEQUENCE:3
DTSTAMP:20260425T232146Z
URL:https://business.dcrcoc.org/events/details/master-your-membership-lunch-10476389
END:VEVENT

END:VCALENDAR
