BEGIN:VCALENDAR
VERSION:2.0
PRODID:-//ChamberMaster//Event Calendar 2.0//EN
METHOD:PUBLISH
X-PUBLISHED-TTL:P3D
REFRESH-INTERVAL:P3D
CALSCALE:GREGORIAN
BEGIN:VEVENT
DTSTART:20180411T153000Z
DTEND:20180411T170000Z
X-MICROSOFT-CDO-ALLDAYEVENT:FALSE
SUMMARY:Master Your Membership Lunch
DESCRIPTION:Whether a brand new member\, a new employee of a member\, or a member just getting back into the swing of things\, the best place to start is by attending the new Master Your Membership Lunch.\n\n\n\nLunch will be provided at this complimentary event.\n\n\n\nAttendees will meet the Chamber staff and learn how the departments of membership\, events\, communications\, The Chamber Foundation\, and Workforce Development Center operate for the benefit of members. Information about all the services included with your membership dues will be provided and this is a great opportunity to ask questions.\n\n \n\nPlease\, only one representative per company.\n\nCall (845) 454-1700\, ext.1000 or email: frontdesk@dcrcoc.org\n\n\n\n\n\np.p1 {margin: 0.0px 0.0px 0.0px 0.0px\; font: 15.0px Calibri\; color: #1e497d}
X-ALT-DESC;FMTTYPE=text/html:<span style="font-size: 14px\;"><span style="font-family: arial\;">Whether a brand new member\, a new employee of a member\, or a member just getting back into the swing of things\, the best place to start is by attending the new Master Your Membership Lunch.<br />\n<br />\nLunch will be provided at this complimentary event.<br />\n<br />\nAttendees will meet the Chamber staff and learn how the departments of membership\, events\, communications\, The Chamber Foundation\, and Workforce Development Center operate for the benefit of members. Information about all the services included with your membership dues will be provided and this is a great opportunity to ask questions.</span></span><br />\n&nbsp\;<br />\n<span style="font-size: 14px\;"><strong>Please\, only one representative per company.</strong></span><br />\n<span style="font-size: 14px\;">Call (845) 454-1700\, ext.1000 or email: frontdesk@dcrcoc.org</span><br />\n<br />\n<br />\n<style type="text/css">p.p1 {margin: 0.0px 0.0px 0.0px 0.0px\; font: 15.0px Calibri\; color: #1e497d}\n</style>\n
LOCATION:Dutchess County Regional Chamber of Commerce 1 Civic Center Plaza\, 4th Floor Chamber Conference Room Poughkeepsie\, NY 12601
UID:e.2770.10476421
SEQUENCE:3
DTSTAMP:20260425T194846Z
URL:https://business.dcrcoc.org/events/details/master-your-membership-lunch-10476421
END:VEVENT

END:VCALENDAR
