BEGIN:VCALENDAR
VERSION:2.0
PRODID:-//ChamberMaster//Event Calendar 2.0//EN
METHOD:PUBLISH
X-PUBLISHED-TTL:P3D
REFRESH-INTERVAL:P3D
CALSCALE:GREGORIAN
BEGIN:VEVENT
DTSTART:20180724T153000Z
DTEND:20180724T170000Z
X-MICROSOFT-CDO-ALLDAYEVENT:FALSE
SUMMARY:Master Your Membership Lunch
DESCRIPTION:Are you or your business new to the Chamber or looking to maximize your membership? Get to know the Chamber staff and other members better at the Master Your Membership Lunch in the Chamber's Conference Room.\n\n\n\nUlster Savings Bank proudly sponsors this Master Your Membership Lunch.\n\n\n\nLunch will be provided. Only one rep per company to attend. If there is available space we'd be happy to register you\, just call Nicole at (845) 454-1700 x 1000 or email frontdesk@dcrcoc.org.
X-ALT-DESC;FMTTYPE=text/html:<p><span style="font-size: 14px\;"><span style="font-family: arial\;">Are you or your business new to the Chamber or looking to maximize your membership? Get to know the Chamber staff and other members better at the Master Your Membership Lunch in the Chamber&rsquo\;s Conference Room.<br />\n<br />\n<a href="http://www.ulstersavings.com/home/home" target="_blank"><strong><span style="color:#0000FF\;">Ulster Savings Bank</span></strong>&nbsp\;</a>proudly sponsors this Master Your Membership Lunch.<br />\n<br />\nLunch will be provided.&nbsp\;Only&nbsp\;one rep per company to attend. If there is available space we&#39\;d be happy to register you\, just call&nbsp\;Nicole at (845) 454-1700 x 1000 or email<span style="color: rgb(0\, 255\, 255)\;"> </span><strong><u><span style="color: rgb(0\, 0\, 205)\;">frontdesk@dcrcoc.org</span></u></strong>. &nbsp\;</span></span></p>\n
LOCATION:Dutchess County Regional Chamber of Commerce 1 Civic Center Plaza\, 4th Floor\, Poughkeepsie
UID:e.2770.10476486
SEQUENCE:3
DTSTAMP:20260425T154909Z
URL:https://business.dcrcoc.org/events/details/master-your-membership-lunch-10476486
END:VEVENT

END:VCALENDAR
