BEGIN:VCALENDAR
VERSION:2.0
PRODID:-//ChamberMaster//Event Calendar 2.0//EN
METHOD:PUBLISH
X-PUBLISHED-TTL:P3D
REFRESH-INTERVAL:P3D
CALSCALE:GREGORIAN
BEGIN:VEVENT
DTSTART:20200109T163000Z
DTEND:20200109T180000Z
X-MICROSOFT-CDO-ALLDAYEVENT:FALSE
SUMMARY:Master Your Membership Lunch
DESCRIPTION:Whether a brand new member\, a new employee of a member\, or a member just getting back into the swing of things\, the best place to start is by attending the new Master Your Membership Lunch.\n\n\n\nLunch will be provided at this complimentary event.\n\n\n\nAttendees will meet the Chamber staff and learn how the departments of membership\, events\, communications\, The Chamber Foundation\, and Workforce Development Center operate for the benefit of members. Information about all the services included with your membership dues will be provided and this is a great opportunity to ask questions.\n\n\n\nPlease\, only one representative per company.\n\nCall (845) 454-1700\, ext.1000 or email: frontdesk@dcrcoc.org\n\n\n\nSponsored by: Branding Pros and Poughkeepsie Journal Media
X-ALT-DESC;FMTTYPE=text/html:<span style="font-size:16px\;"><span style="font-family:tahoma\;">Whether a brand new member\, a new employee of a member\, or a member just getting back into the swing of things\, the best place to start is by attending the new Master Your Membership Lunch.<br />\n<br />\nLunch will be provided at this complimentary event.<br />\n<br />\nAttendees will meet the Chamber staff and learn how the departments of membership\, events\, communications\, The Chamber Foundation\, and Workforce Development Center operate for the benefit of members. Information about all the services included with your membership dues will be provided and this is a great opportunity to ask questions.<br />\n<br />\n<strong>Please\, only one representative per company.</strong><br />\nCall (845) 454-1700\, ext.1000 or email: <span style="color: rgb(0\, 0\, 255)\;">frontdesk@dcrcoc.org</span><br />\n<br />\n<span style="text-align: left\; color: rgb(51\, 51\, 51)\; text-transform: none\; text-indent: 0px\; letter-spacing: normal\; font-style: normal\; font-variant: normal\; font-weight: 400\; text-decoration: none\; word-spacing: 0px\; float: none\; white-space: normal\; orphans: 2\; background-color: transparent\; -webkit-text-stroke-width: 0px\; display: inline !important\;"><strong>Sponsored by:</strong>&nbsp\;</span><strong><span style="text-align: left\; text-transform: none\; text-indent: 0px\; letter-spacing: normal\; font-style: normal\; font-variant: normal\; font-weight: 400\; text-decoration: none\; word-spacing: 0px\; float: none\; white-space: normal\; orphans: 2\; background-color: transparent\; -webkit-text-stroke-width: 0px\; display: inline !important\;"><a href="https://www.brandingpros.com/" target="_blank"><span style="color:#0000FF\;">Branding Pros</span></a></span><span style="text-align: left\; color: rgb(51\, 51\, 51)\; text-transform: none\; text-indent: 0px\; letter-spacing: normal\; font-style: normal\; font-variant: normal\; font-weight: 400\; text-decoration: none\; word-spacing: 0px\; float: none\; white-space: normal\; orphans: 2\; background-color: transparent\; -webkit-text-stroke-width: 0px\; display: inline !important\;"> and </span><span style="text-align: left\; text-transform: none\; text-indent: 0px\; letter-spacing: normal\; font-style: normal\; font-variant: normal\; font-weight: 400\; text-decoration: none\; word-spacing: 0px\; float: none\; white-space: normal\; orphans: 2\; background-color: transparent\; -webkit-text-stroke-width: 0px\; display: inline !important\;"><a href="https://www.poughkeepsiejournal.com/" target="_blank"><span style="color:#0000FF\;">Poughkeepsie Journal Media</span></a></span></strong></span></span>
LOCATION:Dutchess County Regional Chamber of Commerce 1 Civic Center Plaza\, 4th Floor Chamber Conference Room Poughkeepsie\, NY 12601
UID:e.2770.10481427
SEQUENCE:3
DTSTAMP:20260422T133237Z
URL:https://business.dcrcoc.org/events/details/master-your-membership-lunch-10481427
END:VEVENT

END:VCALENDAR
