BEGIN:VCALENDAR
VERSION:2.0
PRODID:-//ChamberMaster//Event Calendar 2.0//EN
METHOD:PUBLISH
X-PUBLISHED-TTL:P3D
REFRESH-INTERVAL:P3D
CALSCALE:GREGORIAN
BEGIN:VEVENT
DTSTART:20200428T153000Z
DTEND:20200428T170000Z
X-MICROSOFT-CDO-ALLDAYEVENT:FALSE
SUMMARY:Master Your Membership Lunch - POSTPONED***
DESCRIPTION:Guests with registrations for postponed events will be automatically registered for the re-scheduled event\, and notified of the new date and time.\n\n\n\nWhether a brand new member\, a new employee of a member\, or a member just getting back into the swing of things\, the best place to start is by attending the new Master Your Membership Lunch.\n\n\n\nLunch will be provided at this complimentary event.\n\n\n\nAttendees will meet the Chamber staff and learn how the departments of membership\, events\, communications\, The Chamber Foundation\, and Workforce Development Center operate for the benefit of members. Information about all the services included with your membership dues will be provided and this is a great opportunity to ask questions.\n\n\n\nPlease\, only one representative per company.\n\n\n\nSponsored By: Poughkeepsie Journal/LocaliQ
X-ALT-DESC;FMTTYPE=text/html:<span style="background: yellow\;"><span style="font-family: tahoma\, sans-serif\;"><span style="font-size: 16pt\;">Guests with registrations for postponed events will be automatically registered for the re-scheduled event\, and notified of the new date and time.</span></span></span><br />\n<br />\n<span style="font-size:16px\;"><span style="font-family:tahoma\;">Whether a brand new member\, a new employee of a member\, or a member just getting back into the swing of things\, the best place to start is by attending the new Master Your Membership Lunch.<br />\n<br />\nLunch will be provided at this complimentary event.<br />\n<br />\nAttendees will meet the Chamber staff and learn how the departments of membership\, events\, communications\, The Chamber Foundation\, and Workforce Development Center operate for the benefit of members. Information about all the services included with your membership dues will be provided and this is a great opportunity to ask questions.<br />\n<br />\n<strong>Please\, only one representative per company.<br />\n<br />\nSponsored By: <a href="https://newyork.localiq.com/poughkeepsie" target="_blank"><span style="color:#0000FF\;">Poughkeepsie Journal/LocaliQ</span></a></strong></span></span><br />\n&nbsp\;
LOCATION:Dutchess County Regional Chamber of Commerce 1 Civic Center Plaza\, 4th Floor Chamber Conference Room Poughkeepsie\, NY 12601
UID:e.2770.10481442
SEQUENCE:3
DTSTAMP:20260422T083102Z
URL:https://business.dcrcoc.org/events/details/master-your-membership-lunch-postponed-10481442
END:VEVENT

END:VCALENDAR
