BEGIN:VCALENDAR
VERSION:2.0
PRODID:-//ChamberMaster//Event Calendar 2.0//EN
METHOD:PUBLISH
X-PUBLISHED-TTL:P3D
REFRESH-INTERVAL:P3D
CALSCALE:GREGORIAN
BEGIN:VEVENT
DTSTART:20180806T160000Z
DTEND:20180806T160000Z
X-MICROSOFT-CDO-ALLDAYEVENT:FALSE
SUMMARY:Math & Physics Exploration Programming Classes
DESCRIPTION:The Math & Physics Exploration center is sponsoring three one week half- day programming classes in July and August. These classes are designed for students at the eight grade level with no prior programming experience. For more details contact Polivka@aplclass.com or 845 462 2698
X-ALT-DESC;FMTTYPE=text/html:The Math &amp\; Physics Exploration center is sponsoring three one week half- day programming classes in July and August. These classes are designed for students at the eight grade level with no prior programming experience. For more details contact Polivka@aplclass.com or 845 462 2698
LOCATION:Poughkeepsie United Methodist Church
UID:e.2770.10477634
SEQUENCE:3
DTSTAMP:20260425T143323Z
URL:https://business.dcrcoc.org/events/details/math-physics-exploration-programming-classes-08-06-2018-10477634
END:VEVENT

END:VCALENDAR
