BEGIN:VCALENDAR
VERSION:2.0
PRODID:-//ChamberMaster//Event Calendar 2.0//EN
METHOD:PUBLISH
X-PUBLISHED-TTL:P3D
REFRESH-INTERVAL:P3D
CALSCALE:GREGORIAN
BEGIN:VEVENT
DTSTART:20190515T113000Z
DTEND:20190515T130000Z
X-MICROSOFT-CDO-ALLDAYEVENT:FALSE
SUMMARY:May Contact Breakfast
DESCRIPTION:***Please note if you try to register after 5:00 PM on Tuesday\, May 14th you will NOT be on our registration list. Please report to the UNPAID Table when you arrive.\n\n\n\nDon't miss this special program   we're going to party like it's 1959! Attendees are encouraged to wear 1950s attire to celebrate the event\, and a prize will be awarded for the most original.\n\n\n\nA special keynote presentation will be delivered by Bill Jeffway\, Executive Director of the Dutchess County Historical Society. Jeffway's presentation\, titled "Made in Dutchess\," will explore the vibrancy to Dutchess business throughout the years. From shipyards on the Poughkeepsie waterfront to violets in Hyde Park\; from J.C. Penney's Emmadine dairy farm in Hopewell Junction to hats made in Beacon\; from Smith Brothers' cough drops to Wappingers Falls Sweet-Orr jeans\, Dutchess County has had a rich and prosperous business history. Jeffway will discuss that history.\n\n\n\nAs you all know\, there are many people in need of our assistance. The Chamber's Ambassador committee has partnered with our Workforce Development Center to collect canned and dry goods at our Contact Breakfast. Your donations are greatly appreciated.\n\n\n\nSponsored by: The Chazen Companies\, Petro\, M & T Bank
X-ALT-DESC;FMTTYPE=text/html:<p><strong style="color: rgb(255\, 0\, 0)\; font-family: &quot\;times new roman&quot\;\; font-size: 18px\;">***<span>Please note if&nbsp\;you try to register after 5:00 PM on Tuesday\,&nbsp\;May 14th&nbsp\;you will NOT be on our registration list. Please report to the UNPAID Table when you arrive.</span></strong><br />\n<br />\n<span style="font-size: 12px\;"><span style="font-family: arial\;">Don&rsquo\;t miss this special program &hellip\; we&rsquo\;re going to party like it&rsquo\;s 1959! <span style="color: rgb(0\, 0\, 0)\; caret-color: rgb(0\, 0\, 0)\; text-size-adjust: auto\;">Attendees are encouraged to wear 1950s attire to celebrate the event\, and a prize will be awarded for the most original.</span></span></span><br />\n<br />\n<span style="font-size: 14px\;"><span style="font-family: arial\;"><span style="font-size: 12px\;">A special keynote presentation will be delivered by Bill Jeffway\, Executive Director of the Dutchess County Historical Society. Jeffway&rsquo\;s presentation\, titled &ldquo\;Made in Dutchess\,&rdquo\;&nbsp\;will explore the vibrancy to Dutchess business throughout the years. From shipyards on the Poughkeepsie waterfront to violets in Hyde Park\; from J.C. Penney&rsquo\;s Emmadine dairy farm in Hopewell Junction to hats made in Beacon\; from Smith Brothers&rsquo\; cough drops to Wappingers Falls Sweet-Orr jeans\, Dutchess County has had a rich and prosperous business history. Jeffway will discuss that history.</span><br />\n<br />\n<strong style="color: rgb(51\, 51\, 51)\; font-family: sans-serif\, Arial\, Verdana\, &quot\;Trebuchet MS&quot\;\; font-size: 13px\; background-color: rgb(255\, 255\, 255)\;">As you all know\, there are many people in need of our assistance. The Chamber&#39\;s Ambassador committee has partnered with our Workforce Development Center to collect canned and dry goods at our Contact Breakfast. Your donations are greatly appreciated.</strong><br />\n<br />\n<strong style="color: rgb(51\, 51\, 51)\; font-family: sans-serif\, Arial\, Verdana\, &quot\;Trebuchet MS&quot\;\; font-size: 13px\; background-color: rgb(255\, 255\, 255)\;">Sponsored by: </strong></span><span style="font-family: times new roman\;"><span style="text-align: left\; text-transform: none\; line-height: 24px\; text-indent: 0px\; letter-spacing: normal\; font-style: normal\; font-variant: normal\; font-weight: 400\; text-decoration: none\; word-spacing: 0px\; float: none\; display: inline !important\; white-space: normal\; orphans: 2\; background-color: transparent\; -webkit-text-stroke-width: 0px\;"><a href="https://www.chazencompanies.com/" target="_blank"><span style="color: rgb(0\, 0\, 255)\;">The Chazen Companies</span></a><span style="color: rgb(0\, 0\, 255)\;">\, </span><a href="https://www.petro.com/" target="_blank"><span style="color: rgb(0\, 0\, 255)\;">Petro</span></a><span style="color: rgb(0\, 0\, 255)\;">\,&nbsp\;</span></span><a href="https://www.mtb.com/home-page" target="_blank"><span style="color: rgb(0\, 0\, 255)\;">M &amp\; T Bank</span></a></span></span></p>\n
LOCATION:The Poughkeepsie Grand Hotel & Conference Center 40 Civic Center Plaza Poughkeepsie\, NY 12601
UID:e.2770.10479830
SEQUENCE:3
DTSTAMP:20260423T044335Z
URL:https://business.dcrcoc.org/events/details/may-contact-breakfast-10479830
END:VEVENT

END:VCALENDAR
