BEGIN:VCALENDAR
VERSION:2.0
PRODID:-//ChamberMaster//Event Calendar 2.0//EN
METHOD:PUBLISH
X-PUBLISHED-TTL:P3D
REFRESH-INTERVAL:P3D
CALSCALE:GREGORIAN
BEGIN:VEVENT
DTSTART:20180504T130000Z
DTEND:20180504T193000Z
X-MICROSOFT-CDO-ALLDAYEVENT:FALSE
SUMMARY:May the Force of ABA be with you presented by Dr. Bobby Newman
DESCRIPTION:Join us for a seminar on Applied Behavior Analysis (ABA) presented by Dr. Bobby Newman. Dr. Newman is a Board Certified Behavior Analyst\, Licensed Psychologist and NYS Licensed Behavior Analyst. Bobby is the author on eleven books regarding behavior therapy and autism spectrum disorders\, including 'Behavior Speak'\, 'Behavior Ask' and 'When Everybody Cares.' He has published over two dozen articles in professional journals\, as well as numerous popular magazine articles. The cost is $50. Seminar topics will include technology and self-management for building independence\, and when everybody cares-ABA case studies: children & adults. Breakfast and Lunch Served 5 CEUs available Sponsored by NYSABA
X-ALT-DESC;FMTTYPE=text/html:Join us for a seminar on Applied Behavior Analysis (ABA) presented by Dr. Bobby Newman. Dr. Newman is a Board Certified Behavior Analyst\, Licensed Psychologist and NYS Licensed Behavior Analyst. Bobby is the author on eleven books regarding behavior therapy and autism spectrum disorders\, including &#39\;Behavior Speak&#39\;\, &#39\;Behavior Ask&#39\; and &#39\;When Everybody Cares.&#39\; He has published over two dozen articles in professional journals\, as well as numerous popular magazine articles. The cost is $50. Seminar topics will include technology and self-management for building independence\, and when everybody cares-ABA case studies: children &amp\; adults. Breakfast and Lunch Served 5 CEUs available Sponsored by NYSABA
LOCATION:Greystone Programs\, Inc. 2070 Route 52\, Bldg 330D Hopewell Junction\, NY 12533
UID:e.2770.10477717
SEQUENCE:3
DTSTAMP:20260425T182123Z
URL:https://business.dcrcoc.org/events/details/may-the-force-of-aba-be-with-you-presented-by-dr-bobby-newman-10477717
END:VEVENT

END:VCALENDAR
